BEGIN:VCALENDAR
VERSION:2.0
PRODID:-//Right Balance - ECPv6.15.20//NONSGML v1.0//EN
CALSCALE:GREGORIAN
METHOD:PUBLISH
X-WR-CALNAME:Right Balance
X-ORIGINAL-URL:https://www.rightbalance.eu
X-WR-CALDESC:Events for Right Balance
REFRESH-INTERVAL;VALUE=DURATION:PT1H
X-Robots-Tag:noindex
X-PUBLISHED-TTL:PT1H
BEGIN:VTIMEZONE
TZID:Europe/Riga
BEGIN:DAYLIGHT
TZOFFSETFROM:+0200
TZOFFSETTO:+0300
TZNAME:EEST
DTSTART:20180325T010000
END:DAYLIGHT
BEGIN:STANDARD
TZOFFSETFROM:+0300
TZOFFSETTO:+0200
TZNAME:EET
DTSTART:20181028T010000
END:STANDARD
BEGIN:DAYLIGHT
TZOFFSETFROM:+0200
TZOFFSETTO:+0300
TZNAME:EEST
DTSTART:20190331T010000
END:DAYLIGHT
BEGIN:STANDARD
TZOFFSETFROM:+0300
TZOFFSETTO:+0200
TZNAME:EET
DTSTART:20191027T010000
END:STANDARD
BEGIN:DAYLIGHT
TZOFFSETFROM:+0200
TZOFFSETTO:+0300
TZNAME:EEST
DTSTART:20200329T010000
END:DAYLIGHT
BEGIN:STANDARD
TZOFFSETFROM:+0300
TZOFFSETTO:+0200
TZNAME:EET
DTSTART:20201025T010000
END:STANDARD
END:VTIMEZONE
BEGIN:VEVENT
DTSTART;TZID=Europe/Riga:20190705T090000
DTEND;TZID=Europe/Riga:20190705T100000
DTSTAMP:20260424T042719
CREATED:20190704T085137Z
LAST-MODIFIED:20190704T085144Z
UID:2636-1562317200-1562320800@www.rightbalance.eu
SUMMARY:Active Osho Meditation
DESCRIPTION:OSHO Active Meditations are scientifically designed for the societies of the 21st century to help us create silence in a joyful and fun way. Each meditation begins with activity and physical movements such as shaking\, dancing\, sound\, breathing\, etc. Then you move into relaxation and stillness. This is the moment where meditation can happen – a moment to be alert and simply watching the body´s sensations\, the thoughts and feelings\, accepting everything without any judgement. \n\n\n\nNo Previous experience is required for OSHO Active Meditations. Only motivation and commitment.
URL:https://www.rightbalance.eu/event/active-osho-meditation/
CATEGORIES:meditation
ATTACH;FMTTYPE=image/jpeg:https://www.rightbalance.eu/wp-content/uploads/2019/05/mandala-meditation.jpg
END:VEVENT
BEGIN:VEVENT
DTSTART;TZID=Europe/Riga:20190704T183000
DTEND;TZID=Europe/Riga:20190704T200000
DTSTAMP:20260424T042719
CREATED:20190704T084447Z
LAST-MODIFIED:20190704T084455Z
UID:2634-1562265000-1562270400@www.rightbalance.eu
SUMMARY:Slow and Restore Yoga
DESCRIPTION:Restorative yoga is a practice that is all about\nslowing down and opening your body through passive stretching\, slow openings\nand breathing techniques.  \n\n\n\nA restorative\nyoga sequence typically involves only five or six poses\, supported by\nprops that allow you to completely relax and rest. Held for 5 minutes or more\,\nrestorative poses include light twists\, seated forward folds\, and gentle\nbackbends.
URL:https://www.rightbalance.eu/event/slow-and-restore-yoga/
CATEGORIES:Yoga
ATTACH;FMTTYPE=image/jpeg:https://www.rightbalance.eu/wp-content/uploads/2019/04/valentina-slow-and-restore.jpg
END:VEVENT
BEGIN:VEVENT
DTSTART;TZID=Europe/Riga:20190703T183000
DTEND;TZID=Europe/Riga:20190703T200000
DTSTAMP:20260424T042719
CREATED:20190704T103902Z
LAST-MODIFIED:20190704T103911Z
UID:2666-1562178600-1562184000@www.rightbalance.eu
SUMMARY:Vinyasa Flow Yoga
DESCRIPTION:It is a dynamic style of Hatha yoga which\nlinks physical postures (asana) with the breath. Our Flow classes are designed\nto cultivate heat in the body while moving through creative sequences.
URL:https://www.rightbalance.eu/event/vinyasa-flow-yoga-3/
CATEGORIES:Yoga
END:VEVENT
BEGIN:VEVENT
DTSTART;TZID=Europe/Riga:20190703T080000
DTEND;TZID=Europe/Riga:20190703T093000
DTSTAMP:20260424T042719
CREATED:20190704T103701Z
LAST-MODIFIED:20190704T103710Z
UID:2663-1562140800-1562146200@www.rightbalance.eu
SUMMARY:Hatha Yoga
DESCRIPTION:In this class we teach proper\nalignment while offering postures that strengthen and promote flexibility.\nBreathing techniques and meditation are also integrated. Expect an emphasis on\nsimplicity\, repetition\, and ease of movement.
URL:https://www.rightbalance.eu/event/hatha-yoga-32/
CATEGORIES:Yoga
END:VEVENT
BEGIN:VEVENT
DTSTART;TZID=Europe/Riga:20190702T090000
DTEND;TZID=Europe/Riga:20190702T103000
DTSTAMP:20260424T042719
CREATED:20190704T103448Z
LAST-MODIFIED:20190704T103454Z
UID:2661-1562058000-1562063400@www.rightbalance.eu
SUMMARY:Hatha Yoga
DESCRIPTION:In this class we teach proper\nalignment while offering postures that strengthen and promote flexibility.\nBreathing techniques and meditation are also integrated. Expect an emphasis on\nsimplicity\, repetition\, and ease of movement.
URL:https://www.rightbalance.eu/event/hatha-yoga-31/
CATEGORIES:meditation
ATTACH;FMTTYPE=image/jpeg:https://www.rightbalance.eu/wp-content/uploads/2019/06/beginers-child-pose.jpeg
END:VEVENT
BEGIN:VEVENT
DTSTART;TZID=Europe/Riga:20190628T060000
DTEND;TZID=Europe/Riga:20190630T220000
DTSTAMP:20260424T042719
CREATED:20190527T085628Z
LAST-MODIFIED:20190531T134146Z
UID:2262-1561701600-1561932000@www.rightbalance.eu
SUMMARY:Meditation and Yoga Retreat
DESCRIPTION:3 days  of Meditation and Yoga retreat. It will be in a very beautiful\, peaceful guesthouse\, right on the sandy beach\, surrounded by the pristine pine woodlands of the North Kurzeme region.  The invitation is for those who want to refresh their spiritual aspect of life\, to practice yoga\, to relax mentally and physically through meditation and breath\, nourish yourself with massage\, music\, walks in the nature\, and create together a conscious loving space in a most beautiful\, natural environment.
URL:https://www.rightbalance.eu/event/meditation-and-yoga-retreat/
CATEGORIES:meditation,Yoga
ATTACH;FMTTYPE=image/jpeg:https://www.rightbalance.eu/wp-content/uploads/2019/05/1ml_2019_Goa_Jivana_098.jpg
END:VEVENT
BEGIN:VEVENT
DTSTART;TZID=Europe/Riga:20190621T180000
DTEND;TZID=Europe/Riga:20190621T200000
DTSTAMP:20260424T042719
CREATED:20190616T180411Z
LAST-MODIFIED:20190616T180442Z
UID:2618-1561140000-1561147200@www.rightbalance.eu
SUMMARY:Hypnotic Meditation
DESCRIPTION:We will practice silent guided hypnotic meditation which induces extremely beneficial\, deeply relaxing and calming state of mind.
URL:https://www.rightbalance.eu/event/hypnotic-meditation/
CATEGORIES:meditation
ATTACH;FMTTYPE=image/jpeg:https://www.rightbalance.eu/wp-content/uploads/2019/01/lotus-1205631_1920.jpg
END:VEVENT
BEGIN:VEVENT
DTSTART;TZID=Europe/Riga:20190621T090000
DTEND;TZID=Europe/Riga:20190621T100000
DTSTAMP:20260424T042719
CREATED:20190616T175837Z
LAST-MODIFIED:20190616T175843Z
UID:2614-1561107600-1561111200@www.rightbalance.eu
SUMMARY:Active Meditation
DESCRIPTION:In Active Meditations we are opening the “lid”: we go “mad”\, we dance\, we\nshake\, we cry\, we laugh\, we scream out all the repressed emotions\, we allow our selves to express our most uncivilised\, row sides … and at the same time we witness whatever wants to be manifested. It is an enormous liberation to be able to express the dark sides and not being judged for it. In Active Meditations we gradually building up the energy and clearly seeing all the emerging thoughts\, emotions\, sensations for what they really are – they are fleeting phenomena’s\, never stable. But there is something which is always aware of them coming and going. That’s where we put all our attention.
URL:https://www.rightbalance.eu/event/active-meditation-2/
CATEGORIES:meditation
ATTACH;FMTTYPE=image/jpeg:https://www.rightbalance.eu/wp-content/uploads/2019/05/mandala-meditation.jpg
END:VEVENT
BEGIN:VEVENT
DTSTART;TZID=Europe/Riga:20190620T183000
DTEND;TZID=Europe/Riga:20190620T200000
DTSTAMP:20260424T042719
CREATED:20190616T175539Z
LAST-MODIFIED:20190616T175546Z
UID:2612-1561055400-1561060800@www.rightbalance.eu
SUMMARY:Restorative Yoga
DESCRIPTION:Restorative yoga is a practice that is all about slowing\ndown and opening your body through passive stretching\, slow openings and\nbreathing techniques.  \n\n\n\nA restorative yoga sequence typically\ninvolves only five or six poses\, supported by props that allow you to\ncompletely relax and rest. Held for 5 minutes or more\, restorative poses\ninclude light twists\, seated forward folds\, and gentle backbends.
URL:https://www.rightbalance.eu/event/restorative-yoga/
CATEGORIES:Yoga
ATTACH;FMTTYPE=image/jpeg:https://www.rightbalance.eu/wp-content/uploads/2019/04/valentina-slow-and-restore.jpg
END:VEVENT
BEGIN:VEVENT
DTSTART;TZID=Europe/Riga:20190619T183000
DTEND;TZID=Europe/Riga:20190619T200000
DTSTAMP:20260424T042719
CREATED:20190616T174924Z
LAST-MODIFIED:20190616T174932Z
UID:2608-1560969000-1560974400@www.rightbalance.eu
SUMMARY:Vinyasa Flow Yoga
DESCRIPTION:It is a dynamic style of Hatha yoga which\nlinks physical postures (asana) with the breath. Our Flow classes are designed\nto cultivate heat in the body while moving through creative sequences.
URL:https://www.rightbalance.eu/event/vinyasa-flow-yoga/
CATEGORIES:Yoga
ATTACH;FMTTYPE=image/jpeg:https://www.rightbalance.eu/wp-content/uploads/2019/05/vinnyasa-flow.jpeg
END:VEVENT
BEGIN:VEVENT
DTSTART;TZID=Europe/Riga:20190619T080000
DTEND;TZID=Europe/Riga:20190619T093000
DTSTAMP:20260424T042719
CREATED:20190616T174634Z
LAST-MODIFIED:20190616T174642Z
UID:2605-1560931200-1560936600@www.rightbalance.eu
SUMMARY:Hatha Yoga
DESCRIPTION:In this class we teach proper alignment while\noffering postures that strengthen and promote flexibility. Breathing techniques\nand meditation are also integrated. Expect an emphasis on simplicity\,\nrepetition\, and ease of movement
URL:https://www.rightbalance.eu/event/hatha-yoga-27/
CATEGORIES:Yoga
ATTACH;FMTTYPE=image/jpeg:https://www.rightbalance.eu/wp-content/uploads/2019/04/group-yoga-jivana.jpg
END:VEVENT
BEGIN:VEVENT
DTSTART;TZID=Europe/Riga:20190618T183000
DTEND;TZID=Europe/Riga:20190618T200000
DTSTAMP:20260424T042719
CREATED:20190616T174411Z
LAST-MODIFIED:20190616T174419Z
UID:2602-1560882600-1560888000@www.rightbalance.eu
SUMMARY:Hatha Yoga
DESCRIPTION:In this class we teach proper alignment while\noffering postures that strengthen and promote flexibility. Breathing techniques\nand meditation are also integrated. Expect an emphasis on simplicity\,\nrepetition\, and ease of movement
URL:https://www.rightbalance.eu/event/hatha-yoga-26/
CATEGORIES:Yoga
ATTACH;FMTTYPE=image/jpeg:https://www.rightbalance.eu/wp-content/uploads/2019/04/group-yoga-jivana.jpg
END:VEVENT
BEGIN:VEVENT
DTSTART;TZID=Europe/Riga:20190617T183000
DTEND;TZID=Europe/Riga:20190617T200000
DTSTAMP:20260424T042719
CREATED:20190616T174133Z
LAST-MODIFIED:20190616T174139Z
UID:2600-1560796200-1560801600@www.rightbalance.eu
SUMMARY:Hatha Yoga
DESCRIPTION:In this class we teach proper alignment while\noffering postures that strengthen and promote flexibility. Breathing techniques\nand meditation are also integrated. Expect an emphasis on simplicity\,\nrepetition\, and ease of movement
URL:https://www.rightbalance.eu/event/hatha-yoga-25/
CATEGORIES:Yoga
ATTACH;FMTTYPE=image/jpeg:https://www.rightbalance.eu/wp-content/uploads/2019/04/group-yoga-jivana.jpg
END:VEVENT
BEGIN:VEVENT
DTSTART;TZID=Europe/Riga:20190617T090000
DTEND;TZID=Europe/Riga:20190617T103000
DTSTAMP:20260424T042719
CREATED:20190616T173816Z
LAST-MODIFIED:20190616T173822Z
UID:2598-1560762000-1560767400@www.rightbalance.eu
SUMMARY:Beginners Hatha Yoga
DESCRIPTION:If you are brand new to yoga\, there are certain postures that are essential for you to learn so you can feel comfortable in a class or practicing on your own at home. Learn the foundations of yoga\,You’ll cover all the most common yoga poses\, build strength and healthy flexibility
URL:https://www.rightbalance.eu/event/beginners-hatha-yoga-2/
CATEGORIES:Yoga
ATTACH;FMTTYPE=image/jpeg:https://www.rightbalance.eu/wp-content/uploads/2019/06/beginers-child-pose.jpeg
END:VEVENT
BEGIN:VEVENT
DTSTART;TZID=Europe/Riga:20190614T183000
DTEND;TZID=Europe/Riga:20190614T200000
DTSTAMP:20260424T042719
CREATED:20190609T202504Z
LAST-MODIFIED:20190609T202513Z
UID:2587-1560537000-1560542400@www.rightbalance.eu
SUMMARY:Hatha Yoga
DESCRIPTION:In this class we teach proper alignment while\noffering postures that strengthen and promote flexibility. Breathing techniques\nand meditation are also integrated. Expect an emphasis on simplicity\,\nrepetition\, and ease of movement
URL:https://www.rightbalance.eu/event/hatha-yoga-24/
CATEGORIES:Yoga
ATTACH;FMTTYPE=image/jpeg:https://www.rightbalance.eu/wp-content/uploads/2019/04/group-yoga-jivana.jpg
END:VEVENT
BEGIN:VEVENT
DTSTART;TZID=Europe/Riga:20190614T090000
DTEND;TZID=Europe/Riga:20190614T100000
DTSTAMP:20260424T042719
CREATED:20190609T201729Z
LAST-MODIFIED:20190609T201735Z
UID:2585-1560502800-1560506400@www.rightbalance.eu
SUMMARY:Active Meditation
DESCRIPTION:In Active Meditations we are opening the “lid”: we go “mad”\, we dance\, we\nshake\, we cry\, we laugh\, we scream out all the repressed emotions\, we allow our selves to express our most uncivilised\, row sides … and at the same time we witness whatever wants to be manifested. It is an enormous liberation to be able to express the dark sides and not being judged for it. In Active Meditations we gradually building up the energy and clearly seeing all the emerging thoughts\, emotions\, sensations for what they really are – they are fleeting phenomena’s\, never stable. But there is something which is always aware of them coming and going. That’s where we put all our attention.
URL:https://www.rightbalance.eu/event/active-meditation/
CATEGORIES:meditation
ATTACH;FMTTYPE=image/jpeg:https://www.rightbalance.eu/wp-content/uploads/2019/05/mandala-meditation.jpg
END:VEVENT
BEGIN:VEVENT
DTSTART;TZID=Europe/Riga:20190613T183000
DTEND;TZID=Europe/Riga:20190613T200000
DTSTAMP:20260424T042719
CREATED:20190609T201333Z
LAST-MODIFIED:20190609T201343Z
UID:2583-1560450600-1560456000@www.rightbalance.eu
SUMMARY:Slow and Restore Hatha Yoga
DESCRIPTION:Restorative yoga is a practice that is all about slowing\ndown and opening your body through passive stretching\, slow openings and\nbreathing techniques.  \n\n\n\nA restorative yoga sequence typically\ninvolves only five or six poses\, supported by props that allow you to\ncompletely relax and rest. Held for 5 minutes or more\, restorative poses\ninclude light twists\, seated forward folds\, and gentle backbends.
URL:https://www.rightbalance.eu/event/slow-and-restore-hatha-yoga-10/
CATEGORIES:Yoga
ATTACH;FMTTYPE=image/jpeg:https://www.rightbalance.eu/wp-content/uploads/2019/04/valentina-slow-and-restore.jpg
END:VEVENT
BEGIN:VEVENT
DTSTART;TZID=Europe/Riga:20190612T183000
DTEND;TZID=Europe/Riga:20190612T200000
DTSTAMP:20260424T042719
CREATED:20190609T200956Z
LAST-MODIFIED:20190609T201003Z
UID:2581-1560364200-1560369600@www.rightbalance.eu
SUMMARY:Vinyasa Flow Hatha Yoga
DESCRIPTION:It is a dynamic style of Hatha yoga which links\nphysical postures (asana) with the breath. Our Flow classes are designed to\ncultivate heat in the body while moving through creative sequences
URL:https://www.rightbalance.eu/event/vinyasa-flow-hatha-yoga-11/
CATEGORIES:Yoga
ATTACH;FMTTYPE=image/jpeg:https://www.rightbalance.eu/wp-content/uploads/2019/05/vinnyasa-flow.jpeg
END:VEVENT
BEGIN:VEVENT
DTSTART;TZID=Europe/Riga:20190612T080000
DTEND;TZID=Europe/Riga:20190612T093000
DTSTAMP:20260424T042719
CREATED:20190609T200431Z
LAST-MODIFIED:20190609T200437Z
UID:2579-1560326400-1560331800@www.rightbalance.eu
SUMMARY:Hatha Yoga
DESCRIPTION:In this class we teach proper\nalignment while offering postures that strengthen and promote flexibility.\nBreathing techniques and meditation are also integrated. Expect an emphasis on\nsimplicity\, repetition\, and ease of movement.
URL:https://www.rightbalance.eu/event/hatha-yoga-23/
CATEGORIES:Yoga
ATTACH;FMTTYPE=image/jpeg:https://www.rightbalance.eu/wp-content/uploads/2019/04/group-yoga-jivana.jpg
END:VEVENT
BEGIN:VEVENT
DTSTART;TZID=Europe/Riga:20190611T183000
DTEND;TZID=Europe/Riga:20190611T200000
DTSTAMP:20260424T042719
CREATED:20190609T200151Z
LAST-MODIFIED:20190609T200157Z
UID:2576-1560277800-1560283200@www.rightbalance.eu
SUMMARY:Hatha Yoga
DESCRIPTION:In this class we teach proper\nalignment while offering postures that strengthen and promote flexibility.\nBreathing techniques and meditation are also integrated. Expect an emphasis on\nsimplicity\, repetition\, and ease of movement.
URL:https://www.rightbalance.eu/event/hatha-yoga-22/
CATEGORIES:Yoga
ATTACH;FMTTYPE=image/jpeg:https://www.rightbalance.eu/wp-content/uploads/2019/04/group-yoga-jivana.jpg
END:VEVENT
BEGIN:VEVENT
DTSTART;TZID=Europe/Riga:20190610T183000
DTEND;TZID=Europe/Riga:20190610T200000
DTSTAMP:20260424T042719
CREATED:20190609T195910Z
LAST-MODIFIED:20190609T195917Z
UID:2574-1560191400-1560196800@www.rightbalance.eu
SUMMARY:Hatha Yoga
DESCRIPTION:In this class we teach proper\nalignment while offering postures that strengthen and promote flexibility.\nBreathing techniques and meditation are also integrated. Expect an emphasis on\nsimplicity\, repetition\, and ease of movement.
URL:https://www.rightbalance.eu/event/hatha-yoga-21/
CATEGORIES:Yoga
ATTACH;FMTTYPE=image/jpeg:https://www.rightbalance.eu/wp-content/uploads/2019/04/group-yoga-jivana.jpg
END:VEVENT
BEGIN:VEVENT
DTSTART;TZID=Europe/Riga:20190610T090000
DTEND;TZID=Europe/Riga:20190610T103000
DTSTAMP:20260424T042719
CREATED:20190609T195355Z
LAST-MODIFIED:20190609T195428Z
UID:2570-1560157200-1560162600@www.rightbalance.eu
SUMMARY:Beginners Hatha Yoga
DESCRIPTION:Beginners Hatha Yoga  \n\n\n\nif you are brand new to yoga\, there are certain postures that are essential for you to learn so you can feel comfortable in a class or practicing on your own at home. \n\n\n\n You’ll cover all the most common yoga poses\, build strength and healthy flexibility.
URL:https://www.rightbalance.eu/event/beginners-hatha-yoga/
CATEGORIES:Yoga
ATTACH;FMTTYPE=image/jpeg:https://www.rightbalance.eu/wp-content/uploads/2019/06/beginers-child-pose.jpeg
END:VEVENT
BEGIN:VEVENT
DTSTART;TZID=Europe/Riga:20190608T120000
DTEND;TZID=Europe/Riga:20190608T131500
DTSTAMP:20260424T042719
CREATED:20190602T200659Z
LAST-MODIFIED:20190602T200711Z
UID:2489-1559995200-1559999700@www.rightbalance.eu
SUMMARY:Pranayama and Hypnotic Guided Meditation
DESCRIPTION:We will learn how to breath according to Hatha Yoga\nteachings. We will start from intense breath generating the heat in the body\nand will fallow with more relaxed\, very aware way of breathing to calm the\nmind\, balance the nervous system and feel harmonious. At the end we will\npractice silent guided hypnotic meditation which induces\nextremely beneficial\, deeply relaxing and calming state of mind.
URL:https://www.rightbalance.eu/event/pranayama-and-hypnotic-guided-meditation-2/
CATEGORIES:meditation
ATTACH;FMTTYPE=image/jpeg:https://www.rightbalance.eu/wp-content/uploads/2019/01/lotus-1205631_1920.jpg
END:VEVENT
BEGIN:VEVENT
DTSTART;TZID=Europe/Riga:20190607T180000
DTEND;TZID=Europe/Riga:20190607T191500
DTSTAMP:20260424T042719
CREATED:20190602T200120Z
LAST-MODIFIED:20190602T200126Z
UID:2487-1559930400-1559934900@www.rightbalance.eu
SUMMARY:Talking to The Body and Mind
DESCRIPTION:This guided meditative hypnotherapy is a process of being reminded of a language most of us have forgotten. It’s the language of communicating with your own body. Communicating with the body\, talking to it\, listening to its messages has been a well known practice in ancient Tibet.
URL:https://www.rightbalance.eu/event/talking-to-the-body-and-mind-5/
CATEGORIES:meditation
ATTACH;FMTTYPE=image/jpeg:https://www.rightbalance.eu/wp-content/uploads/2019/05/Talking-to-the-body-mind.jpg
END:VEVENT
BEGIN:VEVENT
DTSTART;TZID=Europe/Riga:20190607T090000
DTEND;TZID=Europe/Riga:20190607T103000
DTSTAMP:20260424T042719
CREATED:20190602T195721Z
LAST-MODIFIED:20190602T195727Z
UID:2484-1559898000-1559903400@www.rightbalance.eu
SUMMARY:Hatha Yoga
DESCRIPTION:In this class we teach proper\nalignment while offering postures that strengthen and promote flexibility.\nBreathing techniques and meditation are also integrated. Expect an emphasis on\nsimplicity\, repetition\, and ease of movement.
URL:https://www.rightbalance.eu/event/hatha-yoga-20/
CATEGORIES:Yoga
ATTACH;FMTTYPE=image/jpeg:https://www.rightbalance.eu/wp-content/uploads/2019/04/group-yoga-jivana.jpg
END:VEVENT
BEGIN:VEVENT
DTSTART;TZID=Europe/Riga:20190606T183000
DTEND;TZID=Europe/Riga:20190606T200000
DTSTAMP:20260424T042719
CREATED:20190602T195221Z
LAST-MODIFIED:20190602T195230Z
UID:2479-1559845800-1559851200@www.rightbalance.eu
SUMMARY:Slow and Restore
DESCRIPTION:Restorative yoga is a practice that is all about\nslowing down and opening your body through passive stretching\, slow openings\nand breathing techniques.  \n\n\n\nA restorative\nyoga sequence typically involves only five or six poses\, supported by\nprops that allow you to completely relax and rest. Held for 5 minutes or more\,\nrestorative poses include light twists\, seated forward folds\, and gentle\nbackbends.
URL:https://www.rightbalance.eu/event/slow-and-restore/
CATEGORIES:Yoga
ATTACH;FMTTYPE=image/jpeg:https://www.rightbalance.eu/wp-content/uploads/2019/04/valentina-slow-and-restore.jpg
END:VEVENT
BEGIN:VEVENT
DTSTART;TZID=Europe/Riga:20190606T090000
DTEND;TZID=Europe/Riga:20190606T103000
DTSTAMP:20260424T042719
CREATED:20190602T194752Z
LAST-MODIFIED:20190602T194757Z
UID:2476-1559811600-1559817000@www.rightbalance.eu
SUMMARY:Hatha Yoga
DESCRIPTION:In this class we teach proper\nalignment while offering postures that strengthen and promote flexibility.\nBreathing techniques and meditation are also integrated. Expect an emphasis on\nsimplicity\, repetition\, and ease of movement.
URL:https://www.rightbalance.eu/event/hatha-yoga-19/
CATEGORIES:Yoga
ATTACH;FMTTYPE=image/jpeg:https://www.rightbalance.eu/wp-content/uploads/2019/04/group-yoga-jivana.jpg
END:VEVENT
BEGIN:VEVENT
DTSTART;TZID=Europe/Riga:20190605T183000
DTEND;TZID=Europe/Riga:20190605T200000
DTSTAMP:20260424T042719
CREATED:20190602T194435Z
LAST-MODIFIED:20190602T194442Z
UID:2474-1559759400-1559764800@www.rightbalance.eu
SUMMARY:Vinyasa Flow Hatha Yoga
DESCRIPTION:It is a dynamic style of Hatha yoga which\nlinks physical postures (asana) with the breath. Our Flow classes are designed\nto cultivate heat in the body while moving through creative sequences.
URL:https://www.rightbalance.eu/event/vinyasa-flow-hatha-yoga-10/
CATEGORIES:Yoga
ATTACH;FMTTYPE=image/jpeg:https://www.rightbalance.eu/wp-content/uploads/2019/05/vinnyasa-flow.jpeg
END:VEVENT
BEGIN:VEVENT
DTSTART;TZID=Europe/Riga:20190605T080000
DTEND;TZID=Europe/Riga:20190605T093000
DTSTAMP:20260424T042719
CREATED:20190602T193958Z
LAST-MODIFIED:20190602T194004Z
UID:2472-1559721600-1559727000@www.rightbalance.eu
SUMMARY:Hatha Yoga
DESCRIPTION:In this class we teach proper alignment while\noffering postures that strengthen and promote flexibility. Breathing techniques\nand meditation are also integrated. Expect an emphasis on simplicity\,\nrepetition\, and ease of movement
URL:https://www.rightbalance.eu/event/hatha-yoga-18/
CATEGORIES:Yoga
ATTACH;FMTTYPE=image/jpeg:https://www.rightbalance.eu/wp-content/uploads/2019/04/group-yoga-jivana.jpg
END:VEVENT
BEGIN:VEVENT
DTSTART;TZID=Europe/Riga:20190604T183000
DTEND;TZID=Europe/Riga:20190604T200000
DTSTAMP:20260424T042719
CREATED:20190602T193154Z
LAST-MODIFIED:20190602T193201Z
UID:2463-1559673000-1559678400@www.rightbalance.eu
SUMMARY:Hatha Yoga
DESCRIPTION:In this class we teach proper alignment while\noffering postures that strengthen and promote flexibility. Breathing techniques\nand meditation are also integrated. Expect an emphasis on simplicity\,\nrepetition\, and ease of movement
URL:https://www.rightbalance.eu/event/hatha-yoga-16/
CATEGORIES:Yoga
ATTACH;FMTTYPE=image/jpeg:https://www.rightbalance.eu/wp-content/uploads/2019/04/group-yoga-jivana.jpg
END:VEVENT
END:VCALENDAR