BEGIN:VCALENDAR
VERSION:2.0
PRODID:-//Right Balance - ECPv6.15.20//NONSGML v1.0//EN
CALSCALE:GREGORIAN
METHOD:PUBLISH
X-ORIGINAL-URL:https://www.rightbalance.eu
X-WR-CALDESC:Events for Right Balance
REFRESH-INTERVAL;VALUE=DURATION:PT1H
X-Robots-Tag:noindex
X-PUBLISHED-TTL:PT1H
BEGIN:VTIMEZONE
TZID:Europe/Riga
BEGIN:DAYLIGHT
TZOFFSETFROM:+0200
TZOFFSETTO:+0300
TZNAME:EEST
DTSTART:20180325T010000
END:DAYLIGHT
BEGIN:STANDARD
TZOFFSETFROM:+0300
TZOFFSETTO:+0200
TZNAME:EET
DTSTART:20181028T010000
END:STANDARD
BEGIN:DAYLIGHT
TZOFFSETFROM:+0200
TZOFFSETTO:+0300
TZNAME:EEST
DTSTART:20190331T010000
END:DAYLIGHT
BEGIN:STANDARD
TZOFFSETFROM:+0300
TZOFFSETTO:+0200
TZNAME:EET
DTSTART:20191027T010000
END:STANDARD
BEGIN:DAYLIGHT
TZOFFSETFROM:+0200
TZOFFSETTO:+0300
TZNAME:EEST
DTSTART:20200329T010000
END:DAYLIGHT
BEGIN:STANDARD
TZOFFSETFROM:+0300
TZOFFSETTO:+0200
TZNAME:EET
DTSTART:20201025T010000
END:STANDARD
END:VTIMEZONE
BEGIN:VEVENT
DTSTART;TZID=Europe/Riga:20190808T183000
DTEND;TZID=Europe/Riga:20190808T200000
DTSTAMP:20260423T233813
CREATED:20190804T111444Z
LAST-MODIFIED:20190804T111451Z
UID:2818-1565289000-1565294400@www.rightbalance.eu
SUMMARY:Restorative Yoga
DESCRIPTION:Restorative yoga is a practice that is all about\nslowing down and opening your body through passive stretching\, slow openings\nand breathing techniques.  \n\n\n\nA restorative yoga sequence typically\ninvolves only five or six poses\, supported by props that allow you to completely\nrelax and rest. Held for 5 minutes or more\, restorative poses include light\ntwists\, seated forward folds\, and gentle backbends.
URL:https://www.rightbalance.eu/event/restorative-yoga-2/
CATEGORIES:Yoga
ATTACH;FMTTYPE=image/jpeg:https://www.rightbalance.eu/wp-content/uploads/2019/06/beginers-child-pose.jpeg
END:VEVENT
BEGIN:VEVENT
DTSTART;TZID=Europe/Riga:20190807T200000
DTEND;TZID=Europe/Riga:20190807T220000
DTSTAMP:20260423T233813
CREATED:20190802T134109Z
LAST-MODIFIED:20190802T134341Z
UID:2804-1565208000-1565215200@www.rightbalance.eu
SUMMARY:Sound Mysterium Experience
DESCRIPTION:Dear friends\, we are so happy to tell you that our studio soon will host a very special event. Kat Bumbul/ Sound Mysterium from London and her 80 magical antique singing bowls will bring us into the journey of sound\, healing\,feeling\, discovery\, insights\, purification\, harmony\, peace and visions. Sign up asap please\, as we have limited places  \n\n\n\nYou can check Kat website here: https://www.soundmysterium.com/?fbclid=IwAR1-iGJsRPbOvT835YuNzq9IX4Xm6iI9GrnBFevyu8VPvVu-ZHTIxHkD2HI
URL:https://www.rightbalance.eu/event/sound-mysterium-experience/
CATEGORIES:meditation
ATTACH;FMTTYPE=image/jpeg:https://www.rightbalance.eu/wp-content/uploads/2019/08/66585573_348078389219484_5674810270954815488_n.jpg
END:VEVENT
BEGIN:VEVENT
DTSTART;TZID=Europe/Riga:20190807T174500
DTEND;TZID=Europe/Riga:20190807T191500
DTSTAMP:20260423T233813
CREATED:20190804T111155Z
LAST-MODIFIED:20190804T111201Z
UID:2815-1565199900-1565205300@www.rightbalance.eu
SUMMARY:Hatha Yoga
DESCRIPTION:In this class we teach proper\nalignment while offering postures that strengthen and promote flexibility.\nBreathing techniques and meditation are also integrated. Expect an emphasis on\nsimplicity\, repetition\, and ease of movement.
URL:https://www.rightbalance.eu/event/hatha-yoga-40/
CATEGORIES:Yoga
ATTACH;FMTTYPE=image/jpeg:https://www.rightbalance.eu/wp-content/uploads/2019/07/25-_T6A1890-BalticPictures.lv_.jpg
END:VEVENT
BEGIN:VEVENT
DTSTART;TZID=Europe/Riga:20190806T183000
DTEND;TZID=Europe/Riga:20190806T200000
DTSTAMP:20260423T233813
CREATED:20190804T110237Z
LAST-MODIFIED:20190804T110246Z
UID:2811-1565116200-1565121600@www.rightbalance.eu
SUMMARY:Vinyasa Flow Yoga
DESCRIPTION:It is a dynamic style of Hatha yoga which\nlinks physical postures (asana) with the breath. Our Flow classes are designed\nto cultivate heat in the body while moving through creative sequences.
URL:https://www.rightbalance.eu/event/vinyasa-flow-yoga-6/
CATEGORIES:Yoga
ATTACH;FMTTYPE=image/jpeg:https://www.rightbalance.eu/wp-content/uploads/2019/05/vinnyasa-flow.jpeg
END:VEVENT
BEGIN:VEVENT
DTSTART;TZID=Europe/Riga:20190805T183000
DTEND;TZID=Europe/Riga:20190805T200000
DTSTAMP:20260423T233813
CREATED:20190804T105920Z
LAST-MODIFIED:20190804T105929Z
UID:2809-1565029800-1565035200@www.rightbalance.eu
SUMMARY:Hatha Yoga
DESCRIPTION:In this class we teach proper\nalignment while offering postures that strengthen and promote flexibility.\nBreathing techniques and meditation are also integrated. Expect an emphasis on\nsimplicity\, repetition\, and ease of movement.
URL:https://www.rightbalance.eu/event/hatha-yoga-39/
CATEGORIES:Yoga
ATTACH;FMTTYPE=image/jpeg:https://www.rightbalance.eu/wp-content/uploads/2019/07/25-_T6A1890-BalticPictures.lv_.jpg
END:VEVENT
BEGIN:VEVENT
DTSTART;TZID=Europe/Riga:20190802T180000
DTEND;TZID=Europe/Riga:20190802T193000
DTSTAMP:20260423T233813
CREATED:20190802T132731Z
LAST-MODIFIED:20190802T132738Z
UID:2793-1564768800-1564774200@www.rightbalance.eu
SUMMARY:Yoga Nidra
DESCRIPTION:yogic sleep\nis a state of consciousness between waking and sleeping\, like the\n“going-to-sleep” stage\, typically induced by a guided meditation. There\nis evidence that yoga Nidra helps to relieve stress. Yoga Nidra is a state in which the body is completely\nrelaxed\, and the practitioner becomes systematically and increasingly aware of\nthe inner world by following a set of verbal instructions. In yoga Nidra the\npractitioner remains in a state of light withdrawal of the 5 senses (\npratyahara) with four senses internalized\, that is\, withdrawn\, and only hearing\nstill connects to any instructions given.[1] The\ngoals of both yogic paths\, yoga Nidra and meditation are the same\, a state of\nmeditative consciousness. It is among the deepest possible states of relaxation\nwhile still maintaining full consciousness.
URL:https://www.rightbalance.eu/event/yoga-nidra-2/
CATEGORIES:Yoga
ATTACH;FMTTYPE=image/jpeg:https://www.rightbalance.eu/wp-content/uploads/2019/05/edgars-relaxation.jpg
END:VEVENT
BEGIN:VEVENT
DTSTART;TZID=Europe/Riga:20190801T183000
DTEND;TZID=Europe/Riga:20190801T200000
DTSTAMP:20260423T233813
CREATED:20190802T133516Z
LAST-MODIFIED:20190802T133525Z
UID:2802-1564684200-1564689600@www.rightbalance.eu
SUMMARY:Slow and Restore Yoga
DESCRIPTION:Restorative yoga is a practice that is all about\nslowing down and opening your body through passive stretching\, slow openings\nand breathing techniques.  \n\n\n\nA restorative yoga sequence typically\ninvolves only five or six poses\, supported by props that allow you to completely\nrelax and rest. Held for 5 minutes or more\, restorative poses include light\ntwists\, seated forward folds\, and gentle backbends.
URL:https://www.rightbalance.eu/event/slow-and-restore-yoga-3/
END:VEVENT
BEGIN:VEVENT
DTSTART;TZID=Europe/Riga:20190731T183000
DTEND;TZID=Europe/Riga:20190731T200000
DTSTAMP:20260423T233813
CREATED:20190802T133308Z
LAST-MODIFIED:20190802T133315Z
UID:2800-1564597800-1564603200@www.rightbalance.eu
SUMMARY:Vinyasa Flow Yoga
DESCRIPTION:It is a dynamic style of Hatha yoga which\nlinks physical postures (asana) with the breath. Our Flow classes are designed\nto cultivate heat in the body while moving through creative sequences.
URL:https://www.rightbalance.eu/event/vinyasa-flow-yoga-5/
END:VEVENT
BEGIN:VEVENT
DTSTART;TZID=Europe/Riga:20190730T063000
DTEND;TZID=Europe/Riga:20190730T200000
DTSTAMP:20260423T233813
CREATED:20190802T133122Z
LAST-MODIFIED:20190802T133129Z
UID:2798-1564468200-1564516800@www.rightbalance.eu
SUMMARY:Hatha Yoga
DESCRIPTION:In this class we teach proper\nalignment while offering postures that strengthen and promote flexibility.\nBreathing techniques and meditation are also integrated. Expect an emphasis on\nsimplicity\, repetition\, and ease of movement.
URL:https://www.rightbalance.eu/event/hatha-yoga-38/
END:VEVENT
BEGIN:VEVENT
DTSTART;TZID=Europe/Riga:20190729T183000
DTEND;TZID=Europe/Riga:20190729T200000
DTSTAMP:20260423T233813
CREATED:20190802T132953Z
LAST-MODIFIED:20190802T133000Z
UID:2796-1564425000-1564430400@www.rightbalance.eu
SUMMARY:Hatha Yoga
DESCRIPTION:In this class we teach proper\nalignment while offering postures that strengthen and promote flexibility.\nBreathing techniques and meditation are also integrated. Expect an emphasis on\nsimplicity\, repetition\, and ease of movement.
URL:https://www.rightbalance.eu/event/hatha-yoga-37/
END:VEVENT
BEGIN:VEVENT
DTSTART;TZID=Europe/Riga:20190727T190000
DTEND;TZID=Europe/Riga:20190727T213000
DTSTAMP:20260423T233813
CREATED:20190722T085741Z
LAST-MODIFIED:20190722T085747Z
UID:2785-1564254000-1564263000@www.rightbalance.eu
SUMMARY:Tribal Belly Dance Show
DESCRIPTION:The embodiment of dream through a mysterious dance. Concentrating music like the cool wind from the Himalayan peaks will plunge you into a hypnotic state. Charming dances\, like an ancient ritual will carry you to the parallel world. By registration only
URL:https://www.rightbalance.eu/event/tribal-belly-dance-show/
ATTACH;FMTTYPE=image/jpeg:https://www.rightbalance.eu/wp-content/uploads/2019/07/tribal.jpg
END:VEVENT
BEGIN:VEVENT
DTSTART;TZID=Europe/Riga:20190726T180000
DTEND;TZID=Europe/Riga:20190726T200000
DTSTAMP:20260423T233813
CREATED:20190722T084225Z
LAST-MODIFIED:20190722T084235Z
UID:2783-1564164000-1564171200@www.rightbalance.eu
SUMMARY:Hypnotic Meditation
DESCRIPTION:We will practice silent guided hypnotic meditation which induces extremely beneficial\, deeply relaxing and calming state of mind.
URL:https://www.rightbalance.eu/event/hypnotic-meditation-4/
CATEGORIES:meditation
ATTACH;FMTTYPE=image/jpeg:https://www.rightbalance.eu/wp-content/uploads/2019/01/balance-110850_1280.jpg
END:VEVENT
BEGIN:VEVENT
DTSTART;TZID=Europe/Riga:20190725T183000
DTEND;TZID=Europe/Riga:20190725T200000
DTSTAMP:20260423T233813
CREATED:20190722T083618Z
LAST-MODIFIED:20190722T083731Z
UID:2781-1564079400-1564084800@www.rightbalance.eu
SUMMARY:Restorative Hatha Yoga
DESCRIPTION:Restorative yoga is a practice that is all about\nslowing down and opening your body through passive stretching\, slow openings\nand breathing techniques.  \n\n\n\nA restorative yoga sequence typically\ninvolves only five or six poses\, supported by props that allow you to completely\nrelax and rest. Held for 5 minutes or more\, restorative poses include light\ntwists\, seated forward folds\, and gentle backbends.
URL:https://www.rightbalance.eu/event/restorative-hatha-yoga-2/
CATEGORIES:Yoga
ATTACH;FMTTYPE=image/jpeg:https://www.rightbalance.eu/wp-content/uploads/2019/04/valentina-slow-and-restore.jpg
END:VEVENT
BEGIN:VEVENT
DTSTART;TZID=Europe/Riga:20190724T063000
DTEND;TZID=Europe/Riga:20190724T200000
DTSTAMP:20260423T233813
CREATED:20190722T083311Z
LAST-MODIFIED:20190722T083318Z
UID:2779-1563949800-1563998400@www.rightbalance.eu
SUMMARY:Vinyasa Flow  Yoga
DESCRIPTION:It is a dynamic style of Hatha yoga which\nlinks physical postures (asana) with the breath. Our Flow classes are designed\nto cultivate heat in the body while moving through creative sequences.
URL:https://www.rightbalance.eu/event/vinyasa-flow-yoga-4/
CATEGORIES:Yoga
ATTACH;FMTTYPE=image/jpeg:https://www.rightbalance.eu/wp-content/uploads/2019/05/vinnyasa-flow.jpeg
END:VEVENT
BEGIN:VEVENT
DTSTART;TZID=Europe/Riga:20190723T183000
DTEND;TZID=Europe/Riga:20190723T200000
DTSTAMP:20260423T233813
CREATED:20190722T083032Z
LAST-MODIFIED:20190722T083039Z
UID:2777-1563906600-1563912000@www.rightbalance.eu
SUMMARY:Hatha Yoga
DESCRIPTION:In this class we teach proper\nalignment while offering postures that strengthen and promote flexibility.\nBreathing techniques and meditation are also integrated. Expect an emphasis on\nsimplicity\, repetition\, and ease of movement.
URL:https://www.rightbalance.eu/event/hatha-yoga-36/
CATEGORIES:Yoga
ATTACH;FMTTYPE=image/jpeg:https://www.rightbalance.eu/wp-content/uploads/2019/04/group-yoga-jivana.jpg
END:VEVENT
BEGIN:VEVENT
DTSTART;TZID=Europe/Riga:20190722T183000
DTEND;TZID=Europe/Riga:20190722T200000
DTSTAMP:20260423T233813
CREATED:20190722T082726Z
LAST-MODIFIED:20190722T082735Z
UID:2775-1563820200-1563825600@www.rightbalance.eu
SUMMARY:Hatha Yoga
DESCRIPTION:In this class we teach proper\nalignment while offering postures that strengthen and promote flexibility.\nBreathing techniques and meditation are also integrated. Expect an emphasis on\nsimplicity\, repetition\, and ease of movement.
URL:https://www.rightbalance.eu/event/hatha-yoga-35/
CATEGORIES:Yoga
ATTACH;FMTTYPE=image/jpeg:https://www.rightbalance.eu/wp-content/uploads/2019/04/group-yoga-jivana.jpg
END:VEVENT
BEGIN:VEVENT
DTSTART;TZID=Europe/Riga:20190719T183000
DTEND;TZID=Europe/Riga:20190719T200000
DTSTAMP:20260423T233813
CREATED:20190715T093708Z
LAST-MODIFIED:20190715T093717Z
UID:2766-1563561000-1563566400@www.rightbalance.eu
SUMMARY:Yoga Nidra
DESCRIPTION:Yoga Nidra (or yogic sleep) is a state of consciousness between waking and sleeping\, like the “going-to-sleep” stage\, typically induced by a guided meditation. There is evidence that yoga Nidra helps to relieve stress. Yoga Nidra is a state in which the body is completely relaxed\, and the practitioner becomes systematically and increasingly aware of the inner world by following a set of verbal instructions. In yoga Nidra the practitioner remains in a state of light withdrawal of the 5 senses ( pratyahara) with four senses internalized\, that is\, withdrawn\, and only hearing still connects to any instructions given.[1] The goals of both yogic paths\, yoga Nidra and meditation are the same\, a state of meditative consciousness. It is among the deepest possible states of relaxation while still maintaining full consciousness.
URL:https://www.rightbalance.eu/event/yoga-nidra/
CATEGORIES:meditation,Yoga
ATTACH;FMTTYPE=image/jpeg:https://www.rightbalance.eu/wp-content/uploads/2019/05/edgars-relaxation.jpg
END:VEVENT
BEGIN:VEVENT
DTSTART;TZID=Europe/Riga:20190718T183000
DTEND;TZID=Europe/Riga:20190718T200000
DTSTAMP:20260423T233813
CREATED:20190715T093012Z
LAST-MODIFIED:20190715T093018Z
UID:2763-1563474600-1563480000@www.rightbalance.eu
SUMMARY:Restorative Hatha Yoga
DESCRIPTION:Restorative yoga is a practice that is all about\nslowing down and opening your body through passive stretching\, slow openings\nand breathing techniques.  \n\n\n\nA restorative yoga sequence typically\ninvolves only five or six poses\, supported by props that allow you to completely\nrelax and rest. Held for 5 minutes or more\, restorative poses include light\ntwists\, seated forward folds\, and gentle backbends.
URL:https://www.rightbalance.eu/event/restorative-hatha-yoga/
CATEGORIES:Yoga
ATTACH;FMTTYPE=image/jpeg:https://www.rightbalance.eu/wp-content/uploads/2019/04/valentina-slow-and-restore.jpg
END:VEVENT
BEGIN:VEVENT
DTSTART;TZID=Europe/Riga:20190717T183000
DTEND;TZID=Europe/Riga:20190717T200000
DTSTAMP:20260423T233813
CREATED:20190715T090009Z
LAST-MODIFIED:20190715T092654Z
UID:2760-1563388200-1563393600@www.rightbalance.eu
SUMMARY:Vinyasa Flow Hatha Yoga
DESCRIPTION:It is a dynamic style of Hatha yoga which links\nphysical postures (asana) with the breath. Our Flow classes are designed to\ncultivate heat in the body while moving through creative sequences
URL:https://www.rightbalance.eu/event/vinyasa-flow-hatha-yoga-12/
CATEGORIES:Yoga
ATTACH;FMTTYPE=image/jpeg:https://www.rightbalance.eu/wp-content/uploads/2019/04/group-yoga-jivana.jpg
END:VEVENT
BEGIN:VEVENT
DTSTART;TZID=Europe/Riga:20190716T063000
DTEND;TZID=Europe/Riga:20190716T200000
DTSTAMP:20260423T233813
CREATED:20190715T085411Z
LAST-MODIFIED:20190715T085417Z
UID:2757-1563258600-1563307200@www.rightbalance.eu
SUMMARY:Hatha Yoga
DESCRIPTION:In this class we teach proper\nalignment while offering postures that strengthen and promote flexibility.\nBreathing techniques and meditation are also integrated. Expect an emphasis on\nsimplicity\, repetition\, and ease of movement.
URL:https://www.rightbalance.eu/event/hatha-yoga-34/
CATEGORIES:Yoga
ATTACH;FMTTYPE=image/jpeg:https://www.rightbalance.eu/wp-content/uploads/2019/05/vinnyasa-flow.jpeg
END:VEVENT
BEGIN:VEVENT
DTSTART;TZID=Europe/Riga:20190715T183000
DTEND;TZID=Europe/Riga:20190715T200000
DTSTAMP:20260423T233813
CREATED:20190715T084759Z
LAST-MODIFIED:20190715T084805Z
UID:2755-1563215400-1563220800@www.rightbalance.eu
SUMMARY:Hatha Yoga
DESCRIPTION:In this class we teach proper\nalignment while offering postures that strengthen and promote flexibility.\nBreathing techniques and meditation are also integrated. Expect an emphasis on\nsimplicity\, repetition\, and ease of movement.
URL:https://www.rightbalance.eu/event/hatha-yoga-33/
CATEGORIES:Yoga
ATTACH;FMTTYPE=image/jpeg:https://www.rightbalance.eu/wp-content/uploads/2019/05/vinnyasa-flow.jpeg
END:VEVENT
BEGIN:VEVENT
DTSTART;TZID=Europe/Riga:20190713T130000
DTEND;TZID=Europe/Riga:20190713T150000
DTSTAMP:20260423T233813
CREATED:20190704T102710Z
LAST-MODIFIED:20190704T102716Z
UID:2655-1563022800-1563030000@www.rightbalance.eu
SUMMARY:Ogle Festival
DESCRIPTION:RB Studio will hold a workshop of yoga and meditation at the Ogle Festival at 13.00-15.00 \n\n\n\nThe festival aims to highlight public awareness of suicide and depression. We will offer a variety of workshops and lectures on mental health. All the profits will be donated to organizations that work with it and help people in trouble. \n\n\n\nOn stage you will be able to hear Singapore Satin\, Ansis\, Double Faced Eels\, Arturs Skutelis\, Franco Franco\, Latgale Reps\, Silver Heart\, Night & Irvine Rye\, Free Project\, CHRIS VADER\, RIGA Reggae\, Bloody Heels\, $ KAABE\, Blue Jean Serenade\, Js Breeze and other artists. \n\n\n\n Various musical genres will be represented\, performed by both domestic musicians and artists from abroad.
URL:https://www.rightbalance.eu/event/ogle-festival/
ATTACH;FMTTYPE=image/jpeg:https://www.rightbalance.eu/wp-content/uploads/2019/07/49205028_334203217420621_1783501262906458112_n-1.jpg
END:VEVENT
BEGIN:VEVENT
DTSTART;TZID=Europe/Riga:20190712T180000
DTEND;TZID=Europe/Riga:20190712T200000
DTSTAMP:20260423T233813
CREATED:20190704T103147Z
LAST-MODIFIED:20190704T103154Z
UID:2659-1562954400-1562961600@www.rightbalance.eu
SUMMARY:Hypnotic Meditation
DESCRIPTION:we will practice silent guided hypnotic meditation which\ninduces extremely beneficial\, deeply relaxing and calming\nstate of mind.
URL:https://www.rightbalance.eu/event/hypnotic-meditation-3/
CATEGORIES:meditation
ATTACH;FMTTYPE=image/jpeg:https://www.rightbalance.eu/wp-content/uploads/2019/01/balance-110850_1280.jpg
END:VEVENT
BEGIN:VEVENT
DTSTART;TZID=Europe/Riga:20190712T090000
DTEND;TZID=Europe/Riga:20190712T100000
DTSTAMP:20260423T233813
CREATED:20190704T095833Z
LAST-MODIFIED:20190704T095839Z
UID:2648-1562922000-1562925600@www.rightbalance.eu
SUMMARY:Active Osho Meditation
DESCRIPTION:OSHO Active Meditations are scientifically designed for the societies\n of the 21st century to help us create silence in a joyful and fun way. \nEach meditation begins with activity and physical movements such as \nshaking\, dancing\, sound\, breathing\, etc. Then you move into relaxation \nand stillness. This is the moment where meditation can happen – a moment\n to be alert and simply watching the body´s sensations\, the thoughts and\n feelings\, accepting everything without any judgement. \n\n\n\nNo Previous experience is required for OSHO Active Meditations. Only motivation and commitment.
URL:https://www.rightbalance.eu/event/active-osho-meditation-2/
CATEGORIES:meditation
ATTACH;FMTTYPE=image/jpeg:https://www.rightbalance.eu/wp-content/uploads/2019/05/mandala-meditation.jpg
END:VEVENT
BEGIN:VEVENT
DTSTART;TZID=Europe/Riga:20190711T183000
DTEND;TZID=Europe/Riga:20190711T200000
DTSTAMP:20260423T233813
CREATED:20190704T101759Z
LAST-MODIFIED:20190704T101805Z
UID:2653-1562869800-1562875200@www.rightbalance.eu
SUMMARY:Slow and Restore Yoga
DESCRIPTION:Restorative yoga is a practice that is all about\nslowing down and opening your body through passive stretching\, slow openings\nand breathing techniques.  \n\n\n\nA restorative yoga sequence typically\ninvolves only five or six poses\, supported by props that allow you to completely\nrelax and rest. Held for 5 minutes or more\, restorative poses include light\ntwists\, seated forward folds\, and gentle backbends.
URL:https://www.rightbalance.eu/event/slow-and-restore-yoga-2/
CATEGORIES:Yoga
ATTACH;FMTTYPE=image/jpeg:https://www.rightbalance.eu/wp-content/uploads/2019/04/valentina-slow-and-restore.jpg
END:VEVENT
BEGIN:VEVENT
DTSTART;TZID=Europe/Riga:20190710T183000
DTEND;TZID=Europe/Riga:20190710T200000
DTSTAMP:20260423T233813
CREATED:20190704T095419Z
LAST-MODIFIED:20190704T095426Z
UID:2646-1562783400-1562788800@www.rightbalance.eu
SUMMARY:Hatha Yoga
DESCRIPTION:In this class we teach proper\nalignment while offering postures that strengthen and promote flexibility.\nBreathing techniques and meditation are also integrated. Expect an emphasis on\nsimplicity\, repetition\, and ease of movement.
URL:https://www.rightbalance.eu/event/hatha-yoga-30/
CATEGORIES:Yoga
ATTACH;FMTTYPE=image/jpeg:https://www.rightbalance.eu/wp-content/uploads/2019/04/group-yoga-jivana.jpg
END:VEVENT
BEGIN:VEVENT
DTSTART;TZID=Europe/Riga:20190710T080000
DTEND;TZID=Europe/Riga:20190710T093000
DTSTAMP:20260423T233813
CREATED:20190704T094856Z
LAST-MODIFIED:20190704T094902Z
UID:2644-1562745600-1562751000@www.rightbalance.eu
SUMMARY:Vinyasa Flow Yoga
DESCRIPTION:It is a dynamic style of Hatha yoga which\nlinks physical postures (asana) with the breath. Our Flow classes are designed\nto cultivate heat in the body while moving through creative sequences.
URL:https://www.rightbalance.eu/event/vinyasa-flow-yoga-2/
CATEGORIES:Yoga
ATTACH;FMTTYPE=image/jpeg:https://www.rightbalance.eu/wp-content/uploads/2019/05/vinnyasa-flow.jpeg
END:VEVENT
BEGIN:VEVENT
DTSTART;TZID=Europe/Riga:20190709T183000
DTEND;TZID=Europe/Riga:20190709T200000
DTSTAMP:20260423T233813
CREATED:20190704T094145Z
LAST-MODIFIED:20190704T094155Z
UID:2642-1562697000-1562702400@www.rightbalance.eu
SUMMARY:Hatha Yoga
DESCRIPTION:In this class we teach proper alignment while offering postures that strengthen and promote flexibility. Breathing techniques and meditation are also integrated. Expect an emphasis on simplicity\, repetition\, and ease of movement
URL:https://www.rightbalance.eu/event/hatha-yoga-29/
CATEGORIES:Yoga
ATTACH;FMTTYPE=image/jpeg:https://www.rightbalance.eu/wp-content/uploads/2019/04/group-yoga-jivana.jpg
END:VEVENT
BEGIN:VEVENT
DTSTART;TZID=Europe/Riga:20190708T183000
DTEND;TZID=Europe/Riga:20190708T200000
DTSTAMP:20260423T233813
CREATED:20190704T093911Z
LAST-MODIFIED:20190704T093916Z
UID:2640-1562610600-1562616000@www.rightbalance.eu
SUMMARY:Hatha Yoga
DESCRIPTION:In this class we teach proper alignment while offering postures that strengthen and promote flexibility. Breathing techniques and meditation are also integrated. Expect an emphasis on simplicity\, repetition\, and ease of movement
URL:https://www.rightbalance.eu/event/hatha-yoga-28/
CATEGORIES:Yoga
ATTACH;FMTTYPE=image/jpeg:https://www.rightbalance.eu/wp-content/uploads/2019/04/group-yoga-jivana.jpg
END:VEVENT
BEGIN:VEVENT
DTSTART;TZID=Europe/Riga:20190705T180000
DTEND;TZID=Europe/Riga:20190705T200000
DTSTAMP:20260423T233813
CREATED:20190704T085543Z
LAST-MODIFIED:20190704T085550Z
UID:2638-1562349600-1562356800@www.rightbalance.eu
SUMMARY:Hypnotic Meditation
DESCRIPTION:We will practice silent guided hypnotic meditation which induces extremely beneficial\, deeply relaxing and calming state of mind.
URL:https://www.rightbalance.eu/event/hypnotic-meditation-2/
CATEGORIES:meditation
ATTACH;FMTTYPE=image/jpeg:https://www.rightbalance.eu/wp-content/uploads/2019/01/lotus-1205631_1920.jpg
END:VEVENT
END:VCALENDAR