BEGIN:VCALENDAR
VERSION:2.0
PRODID:-//Right Balance - ECPv6.15.20//NONSGML v1.0//EN
CALSCALE:GREGORIAN
METHOD:PUBLISH
X-WR-CALNAME:Right Balance
X-ORIGINAL-URL:https://www.rightbalance.eu
X-WR-CALDESC:Events for Right Balance
REFRESH-INTERVAL;VALUE=DURATION:PT1H
X-Robots-Tag:noindex
X-PUBLISHED-TTL:PT1H
BEGIN:VTIMEZONE
TZID:UTC
BEGIN:STANDARD
TZOFFSETFROM:+0000
TZOFFSETTO:+0000
TZNAME:UTC
DTSTART:20180101T000000
END:STANDARD
END:VTIMEZONE
BEGIN:VEVENT
DTSTART;TZID=UTC:20190514T180000
DTEND;TZID=UTC:20190514T193000
DTSTAMP:20260424T143810
CREATED:20190507T180543Z
LAST-MODIFIED:20190510T061605Z
UID:1823-1557856800-1557862200@www.rightbalance.eu
SUMMARY:Hatha Yoga
DESCRIPTION:In this class we teach proper alignment while offering postures that \n strengthen and promote flexibility. Breathing techniques and meditation\n  are also integrated. Expect an emphasis on simplicity\, repetition\, and\n  ease of movement.
URL:https://www.rightbalance.eu/event/hatha-yoga-8/
ATTACH;FMTTYPE=image/jpeg:https://www.rightbalance.eu/wp-content/uploads/2019/04/group-yoga-jivana.jpg
END:VEVENT
BEGIN:VEVENT
DTSTART;TZID=UTC:20190514T110000
DTEND;TZID=UTC:20190514T123000
DTSTAMP:20260424T143810
CREATED:20190507T180317Z
LAST-MODIFIED:20190510T061850Z
UID:1820-1557831600-1557837000@www.rightbalance.eu
SUMMARY:Vinyasa Flow Hatha Yoga
DESCRIPTION:It is a dynamic style of Hatha yoga which links physical postures (asana) with the breath. Our Flow classes are designed to cultivate heat in the body while moving through creative sequences.
URL:https://www.rightbalance.eu/event/vinyasa-flow-hatha-yoga-5/
ATTACH;FMTTYPE=image/jpeg:https://www.rightbalance.eu/wp-content/uploads/2019/05/vinnyasa-flow.jpeg
END:VEVENT
BEGIN:VEVENT
DTSTART;TZID=UTC:20190514T093000
DTEND;TZID=UTC:20190514T103000
DTSTAMP:20260424T143810
CREATED:20190507T180009Z
LAST-MODIFIED:20190510T061208Z
UID:1815-1557826200-1557829800@www.rightbalance.eu
SUMMARY:Nadabrahma Meditation
DESCRIPTION:Nadabrahma ( divine sound)Meditation is a one hour technique in three stages\, that was adapted from an ancient tibetan method.
URL:https://www.rightbalance.eu/event/nadabrahma-meditation/
ATTACH;FMTTYPE=image/jpeg:https://www.rightbalance.eu/wp-content/uploads/2019/01/1R9A1160.jpg
END:VEVENT
BEGIN:VEVENT
DTSTART;TZID=UTC:20190513T123000
DTEND;TZID=UTC:20190513T140000
DTSTAMP:20260424T143810
CREATED:20190507T175301Z
LAST-MODIFIED:20190507T175306Z
UID:1811-1557750600-1557756000@www.rightbalance.eu
SUMMARY:Slow and Restore Hatha Yoga
DESCRIPTION:Relaxing class with a lot of slow openings\, stretches and breathing techniques.
URL:https://www.rightbalance.eu/event/slow-and-restore-hatha-yoga-5/
ATTACH;FMTTYPE=image/jpeg:https://www.rightbalance.eu/wp-content/uploads/2019/04/valentina-slow-and-restore.jpg
END:VEVENT
BEGIN:VEVENT
DTSTART;TZID=UTC:20190511T120000
DTEND;TZID=UTC:20190511T131500
DTSTAMP:20260424T143810
CREATED:20190507T175000Z
LAST-MODIFIED:20190507T175007Z
UID:1809-1557576000-1557580500@www.rightbalance.eu
SUMMARY:Pranayama and Meditation
DESCRIPTION:We will learn how to breath according to Hatha Yoga teachings. We will start from intense breath generating the heat in the body and will fallow with more relaxed\, very aware way of breathing to calm the mind\, balance the nervous system and feel harmonious. At the end we will practice silent meditation by watching the breath going in and out.
URL:https://www.rightbalance.eu/event/pranayama-and-meditation-3/
ATTACH;FMTTYPE=image/jpeg:https://www.rightbalance.eu/wp-content/uploads/2019/04/Breath-Alan-laura.jpg
END:VEVENT
BEGIN:VEVENT
DTSTART;TZID=UTC:20190510T090000
DTEND;TZID=UTC:20190510T103000
DTSTAMP:20260424T143810
CREATED:20190507T174500Z
LAST-MODIFIED:20190507T174505Z
UID:1807-1557478800-1557484200@www.rightbalance.eu
SUMMARY:Vinyasa Flow Hatha Yoga
DESCRIPTION:It is a dynamic style of Hatha yoga which links physical postures (asana) with the breath. Our Flow classes are designed to cultivate heat in the body while moving through creative sequences.
URL:https://www.rightbalance.eu/event/vinyasa-flow-hatha-yoga-4/
ATTACH;FMTTYPE=image/jpeg:https://www.rightbalance.eu/wp-content/uploads/2019/05/vinnyasa-flow.jpeg
END:VEVENT
BEGIN:VEVENT
DTSTART;TZID=UTC:20190509T180000
DTEND;TZID=UTC:20190509T193000
DTSTAMP:20260424T143810
CREATED:20190507T174132Z
LAST-MODIFIED:20190507T174140Z
UID:1805-1557424800-1557430200@www.rightbalance.eu
SUMMARY:"Slow and Restore" Hatha Yoga
DESCRIPTION:Relaxing class with a lot of slow openings\, stretches and breathing techniques.
URL:https://www.rightbalance.eu/event/slow-and-restore-hatha-yoga-4/
ATTACH;FMTTYPE=image/jpeg:https://www.rightbalance.eu/wp-content/uploads/2019/04/valentina-slow-and-restore.jpg
END:VEVENT
BEGIN:VEVENT
DTSTART;TZID=UTC:20190509T110000
DTEND;TZID=UTC:20190509T123000
DTSTAMP:20260424T143810
CREATED:20190507T173803Z
LAST-MODIFIED:20190507T173808Z
UID:1803-1557399600-1557405000@www.rightbalance.eu
SUMMARY:Hatha Yoga
DESCRIPTION:In this class we teach proper alignment while offering postures that strengthen and promote flexibility. Breathing techniques and meditation are also integrated. Expect an emphasis on simplicity\, repetition\, and ease of movement.
URL:https://www.rightbalance.eu/event/hatha-yoga-7/
ATTACH;FMTTYPE=image/jpeg:https://www.rightbalance.eu/wp-content/uploads/2019/04/group-yoga-jivana.jpg
END:VEVENT
BEGIN:VEVENT
DTSTART;TZID=UTC:20190508T183000
DTEND;TZID=UTC:20190508T194500
DTSTAMP:20260424T143810
CREATED:20190507T173338Z
LAST-MODIFIED:20190507T181722Z
UID:1800-1557340200-1557344700@www.rightbalance.eu
SUMMARY:Singing Bowls Meditation
DESCRIPTION:If you are looking for relaxation\, for empty space inside\, for insights\, for healing\, for opening the doors of perception and self awareness-you are welcome. we will start with short meditation guided by India Jivaeva and then Yuri Fateev will gently guide you into the sound healing journey. Bookings are necessary.
URL:https://www.rightbalance.eu/event/singing-bowls-meditation-3/
ATTACH;FMTTYPE=image/jpeg:https://www.rightbalance.eu/wp-content/uploads/2019/05/yura.jpg
END:VEVENT
BEGIN:VEVENT
DTSTART;TZID=UTC:20190508T123000
DTEND;TZID=UTC:20190508T140000
DTSTAMP:20260424T143810
CREATED:20190507T172550Z
LAST-MODIFIED:20190507T172555Z
UID:1793-1557318600-1557324000@www.rightbalance.eu
SUMMARY:Hatha Yoga
DESCRIPTION:In this class we teach proper alignment while offering postures that strengthen and promote flexibility. Breathing techniques and meditation are also integrated. Expect an emphasis on simplicity\, repetition\, and ease of movement.
URL:https://www.rightbalance.eu/event/hatha-yoga-6/
ATTACH;FMTTYPE=image/jpeg:https://www.rightbalance.eu/wp-content/uploads/2019/04/group-yoga-jivana.jpg
END:VEVENT
BEGIN:VEVENT
DTSTART;TZID=UTC:20190508T100000
DTEND;TZID=UTC:20190508T110000
DTSTAMP:20260424T143810
CREATED:20190507T172226Z
LAST-MODIFIED:20190507T172231Z
UID:1781-1557309600-1557313200@www.rightbalance.eu
SUMMARY:Kundalini Active Meditation
DESCRIPTION:Being fully immersed in the shaking and dancing of the first two stages helps to “melt” the rock-like being\, wherever the energy flow has been repressed and blocked. Then that energy can flow\, dance and be transformed into bliss and joy. The last two stages enable all this energy to flow vertically\, to move upwards into silence. It is a highly effective way of unwinding and letting go
URL:https://www.rightbalance.eu/event/kundalini-active-meditation/
ATTACH;FMTTYPE=image/jpeg:https://www.rightbalance.eu/wp-content/uploads/2019/05/kundalini.jpeg
END:VEVENT
BEGIN:VEVENT
DTSTART;TZID=UTC:20190507T180000
DTEND;TZID=UTC:20190507T193000
DTSTAMP:20260424T143810
CREATED:20190507T124353Z
LAST-MODIFIED:20190507T124358Z
UID:1681-1557252000-1557257400@www.rightbalance.eu
SUMMARY:Hatha Yoga
DESCRIPTION:In this class we teach proper alignment while offering postures that  strengthen and promote flexibility. Breathing techniques and meditation  are also integrated. Expect an emphasis on simplicity\, repetition\, and  ease of movement.
URL:https://www.rightbalance.eu/event/hatha-yoga-5/
ATTACH;FMTTYPE=image/jpeg:https://www.rightbalance.eu/wp-content/uploads/2019/04/group-yoga-jivana.jpg
END:VEVENT
BEGIN:VEVENT
DTSTART;TZID=UTC:20190507T110000
DTEND;TZID=UTC:20190507T123000
DTSTAMP:20260424T143810
CREATED:20190507T123937Z
LAST-MODIFIED:20190507T123944Z
UID:1676-1557226800-1557232200@www.rightbalance.eu
SUMMARY:Vinyasa Flow Hatha Yoga
DESCRIPTION:It is a dynamic style of Hatha yoga which links physical postures (asana) with the breath. Our Flow classes are designed to cultivate heat in the body while moving through creative sequences.
URL:https://www.rightbalance.eu/event/vinyasa-flow-hatha-yoga-3/
ATTACH;FMTTYPE=image/jpeg:https://www.rightbalance.eu/wp-content/uploads/2019/05/vinnyasa-flow.jpeg
END:VEVENT
BEGIN:VEVENT
DTSTART;TZID=UTC:20190507T093000
DTEND;TZID=UTC:20190507T103000
DTSTAMP:20260424T143810
CREATED:20190507T122802Z
LAST-MODIFIED:20190507T123342Z
UID:1670-1557221400-1557225000@www.rightbalance.eu
SUMMARY:Guided meditation
DESCRIPTION:Osho Meditation\, has 4 stages\, 15 minutes each. You will be guided in the space of calmness and learn how to be mindful\,maintaining a moment-by-moment awareness of  our thoughts\, feelings\, bodily sensations\, and surrounding environment\,  through a gentle\, nurturing lens. … When we practice mindfulness\, our thoughts tune into what we’re sensing in the present moment rather than rehashing the past or imagining the future.
URL:https://www.rightbalance.eu/event/guided-meditation/
ATTACH;FMTTYPE=image/jpeg:https://www.rightbalance.eu/wp-content/uploads/2019/05/meditation-rb.jpeg
END:VEVENT
BEGIN:VEVENT
DTSTART;TZID=UTC:20190506T123000
DTEND;TZID=UTC:20190506T140000
DTSTAMP:20260424T143810
CREATED:20190507T121500Z
LAST-MODIFIED:20190507T121506Z
UID:1667-1557145800-1557151200@www.rightbalance.eu
SUMMARY:"Slow and Restore" Hatha Yoga
DESCRIPTION:Relaxing class with a lot of slow openings\, stretches and breathing techniques.
URL:https://www.rightbalance.eu/event/slow-and-restore-hatha-yoga-3/
ATTACH;FMTTYPE=image/jpeg:https://www.rightbalance.eu/wp-content/uploads/2019/04/valentina-slow-and-restore.jpg
END:VEVENT
BEGIN:VEVENT
DTSTART;TZID=UTC:20190504T120000
DTEND;TZID=UTC:20190504T131500
DTSTAMP:20260424T143810
CREATED:20190429T111154Z
LAST-MODIFIED:20190429T111201Z
UID:1442-1556971200-1556975700@www.rightbalance.eu
SUMMARY:Pranayama and Meditation
DESCRIPTION:We will learn how to breath according to Hatha Yoga teachings. We will start from intense breath generating the heat in the body and will fallow with more relaxed\, very aware way of breathing to calm the mind\, balance the nervous system and feel harmonious. At the end we will practice silent meditation by watching the breath going in and out.
URL:https://www.rightbalance.eu/event/pranayama-and-meditation/
ATTACH;FMTTYPE=image/jpeg:https://www.rightbalance.eu/wp-content/uploads/2019/04/Breath-Alan-laura.jpg
END:VEVENT
BEGIN:VEVENT
DTSTART;TZID=UTC:20190503T090000
DTEND;TZID=UTC:20190503T103000
DTSTAMP:20260424T143810
CREATED:20190429T110456Z
LAST-MODIFIED:20190429T110505Z
UID:1440-1556874000-1556879400@www.rightbalance.eu
SUMMARY:Vinyasa Flow Hatha Yoga
DESCRIPTION:It is a dynamic style of Hatha yoga which links physical postures (asana) with the breath. Our Flow classes are designed to cultivate heat in the body while moving through creative sequences.
URL:https://www.rightbalance.eu/event/vinyasa-flow-hatha-yoga-2/
ATTACH;FMTTYPE=image/jpeg:https://www.rightbalance.eu/wp-content/uploads/2019/01/32855319_10156353398719561_4809991989992882176_n.jpg
END:VEVENT
BEGIN:VEVENT
DTSTART;TZID=UTC:20190502T110000
DTEND;TZID=UTC:20190502T123000
DTSTAMP:20260424T143810
CREATED:20190429T104915Z
LAST-MODIFIED:20190429T104920Z
UID:1428-1556794800-1556800200@www.rightbalance.eu
SUMMARY:Hatha Yoga
DESCRIPTION:In this class we teach proper alignment while offering postures that strengthen and promote flexibility. Breathing techniques and meditation are also integrated. Expect an emphasis on simplicity\, repetition\, and ease of movement.
URL:https://www.rightbalance.eu/event/hatha-yoga-2/
ATTACH;FMTTYPE=image/jpeg:https://www.rightbalance.eu/wp-content/uploads/2019/02/51155506_2231612493767649_3559519949753942016_o.jpg
END:VEVENT
BEGIN:VEVENT
DTSTART;TZID=UTC:20190501T183000
DTEND;TZID=UTC:20190501T194500
DTSTAMP:20260424T143810
CREATED:20190429T103938Z
LAST-MODIFIED:20190429T104433Z
UID:1423-1556735400-1556739900@www.rightbalance.eu
SUMMARY:Singing Bowls Meditation
DESCRIPTION:If you are looking for relaxation\, for empty space inside\, for insights\, for healing\, for opening the doors of perception and self awareness-you are welcome. we will start with short meditation guided by India Jivaeva and  then Yuri Fateev will gently guide you into the sound healing journey. Bookings are necessary.
URL:https://www.rightbalance.eu/event/singing-bowls-meditation/
ATTACH;FMTTYPE=image/jpeg:https://www.rightbalance.eu/wp-content/uploads/2019/04/singing-bowls.jpg
END:VEVENT
BEGIN:VEVENT
DTSTART;TZID=UTC:20190501T123000
DTEND;TZID=UTC:20190501T140000
DTSTAMP:20260424T143810
CREATED:20190429T103344Z
LAST-MODIFIED:20190429T105450Z
UID:1421-1556713800-1556719200@www.rightbalance.eu
SUMMARY:Hatha Yoga
DESCRIPTION:In this class we teach proper alignment while offering postures that strengthen and promote flexibility. Breathing techniques and meditation are also integrated. Expect an emphasis on simplicity\, repetition\, and ease of movement.
URL:https://www.rightbalance.eu/event/hatha-yoga/
ATTACH;FMTTYPE=image/jpeg:https://www.rightbalance.eu/wp-content/uploads/2019/02/51155506_2231612493767649_3559519949753942016_o.jpg
END:VEVENT
BEGIN:VEVENT
DTSTART;TZID=UTC:20190501T100000
DTEND;TZID=UTC:20190501T110000
DTSTAMP:20260424T143810
CREATED:20190429T102924Z
LAST-MODIFIED:20190429T105052Z
UID:1418-1556704800-1556708400@www.rightbalance.eu
SUMMARY:Osho Active Guided Meditation
DESCRIPTION:This meditation has 4 stages with the music\, 15 minutes each. First 2 stages are active\, rising the energy and after that we have 2 passive stages  when  the emphasis is on  becoming watchful and present.
URL:https://www.rightbalance.eu/event/osho-active-guided-meditation/
ATTACH;FMTTYPE=image/jpeg:https://www.rightbalance.eu/wp-content/uploads/2019/01/1R9A1152.jpg
END:VEVENT
BEGIN:VEVENT
DTSTART;TZID=UTC:20190430T110000
DTEND;TZID=UTC:20190430T123000
DTSTAMP:20260424T143810
CREATED:20190429T101945Z
LAST-MODIFIED:20190429T105309Z
UID:1415-1556622000-1556627400@www.rightbalance.eu
SUMMARY:Vinyasa Flow Hatha Yoga
DESCRIPTION:It is a dynamic style of Hatha yoga which links physical postures (asana) with the breath. Our Flow classes are designed to cultivate heat in the body while moving through creative sequences.
URL:https://www.rightbalance.eu/event/vinyasa-flow-hatha-yoga/
ATTACH;FMTTYPE=image/jpeg:https://www.rightbalance.eu/wp-content/uploads/2019/01/32855319_10156353398719561_4809991989992882176_n.jpg
END:VEVENT
BEGIN:VEVENT
DTSTART;TZID=UTC:20190430T093000
DTEND;TZID=UTC:20190430T103000
DTSTAMP:20260424T143810
CREATED:20190429T101026Z
LAST-MODIFIED:20190429T110109Z
UID:1412-1556616600-1556620200@www.rightbalance.eu
SUMMARY:Tantra guided meditation from the "Book of Secrets" Osho
DESCRIPTION:This Meditation is designed to discover who is hidden behind all our senses.
URL:https://www.rightbalance.eu/event/tantra-guided-meditation-from-the-book-of-secrets-osho/
ATTACH;FMTTYPE=image/jpeg:https://www.rightbalance.eu/wp-content/uploads/2019/04/Laura-and-Andy-Jivana.jpg
END:VEVENT
BEGIN:VEVENT
DTSTART;TZID=UTC:20190429T123000
DTEND;TZID=UTC:20190429T140000
DTSTAMP:20260424T143810
CREATED:20190429T100521Z
LAST-MODIFIED:20190429T105803Z
UID:1410-1556541000-1556546400@www.rightbalance.eu
SUMMARY:Slow and Restore Hatha Yoga
DESCRIPTION:
URL:https://www.rightbalance.eu/event/slow-and-restore-hatha-yoga/
ATTACH;FMTTYPE=image/jpeg:https://www.rightbalance.eu/wp-content/uploads/2019/04/valentina-slow-and-restore.jpg
END:VEVENT
BEGIN:VEVENT
DTSTART;TZID=UTC:20190427T003000
DTEND;TZID=UTC:20190427T131500
DTSTAMP:20260424T143810
CREATED:20190429T114508Z
LAST-MODIFIED:20190429T114727Z
UID:1463-1556325000-1556370900@www.rightbalance.eu
SUMMARY:Pranayama and Meditation
DESCRIPTION:We will learn how to breath according to Hatha Yoga teachings. We will start from intense breath\, generating the heat in the body and will fallow with more relaxed\, very aware way of breathing to calm the mind\, balance the nervous system and feel harmonious. At the end we will practice silent meditation by watching the breath going in and out.
URL:https://www.rightbalance.eu/event/pranayama-and-meditation-2/
ATTACH;FMTTYPE=image/jpeg:https://www.rightbalance.eu/wp-content/uploads/2019/04/Breath-Alan-laura.jpg
END:VEVENT
BEGIN:VEVENT
DTSTART;TZID=UTC:20190426T090000
DTEND;TZID=UTC:20190426T103000
DTSTAMP:20260424T143810
CREATED:20190429T114052Z
LAST-MODIFIED:20190429T114101Z
UID:1461-1556269200-1556274600@www.rightbalance.eu
SUMMARY:Slow and Restore Hatha Yoga
DESCRIPTION:Enjoy the feelings of rejuvenation and steadiness that arise from this practice. Slow down and move into silence. Calm the mind and nerves and experience the joy within.\nThis class will flow through  many simple postures designed to build internal heat slowly and gently and slowly\,  gradualy open  and stretch all parts of the body.
URL:https://www.rightbalance.eu/event/slow-and-restore-hatha-yoga-2/
ATTACH;FMTTYPE=image/jpeg:https://www.rightbalance.eu/wp-content/uploads/2019/04/valentina-slow-and-restore.jpg
END:VEVENT
BEGIN:VEVENT
DTSTART;TZID=UTC:20190425T183000
DTEND;TZID=UTC:20190425T200000
DTSTAMP:20260424T143810
CREATED:20190429T113801Z
LAST-MODIFIED:20190429T113809Z
UID:1459-1556217000-1556222400@www.rightbalance.eu
SUMMARY:Singing Bowls Meditation
DESCRIPTION:If you are looking for relaxation\, for empty space inside\, for insights\, for healing\, for opening the doors of perception and self awareness-you are welcome. we will start with short meditation guided by India Jivaeva and then Yuri Fateev will gently guide you into the sound healing journey. Bookings are necessary.
URL:https://www.rightbalance.eu/event/singing-bowls-meditation-2/
ATTACH;FMTTYPE=image/jpeg:https://www.rightbalance.eu/wp-content/uploads/2019/04/singing-bowls.jpg
END:VEVENT
BEGIN:VEVENT
DTSTART;TZID=UTC:20190425T110000
DTEND;TZID=UTC:20190425T123000
DTSTAMP:20260424T143810
CREATED:20190429T113432Z
LAST-MODIFIED:20190429T113438Z
UID:1457-1556190000-1556195400@www.rightbalance.eu
SUMMARY:Hatha Vinyasa Flow Yoga
DESCRIPTION:is a dynamic style of Hatha yoga which links physical postures (asana) with the breath. Our Flow classes are designed to cultivate heat in the body while moving through creative sequences. Sun Salutations\, standing and seated postures\, back bends and arm balances are taught with a strong emphasis on proper alignment and breath. Our Flow classes tend to be quite stimulating and vigorous.
URL:https://www.rightbalance.eu/event/hatha-vinyasa-flow-yoga/
ATTACH;FMTTYPE=image/jpeg:https://www.rightbalance.eu/wp-content/uploads/2019/01/32855319_10156353398719561_4809991989992882176_n.jpg
END:VEVENT
BEGIN:VEVENT
DTSTART;TZID=UTC:20190424T180000
DTEND;TZID=UTC:20190424T193000
DTSTAMP:20260424T143810
CREATED:20190429T113147Z
LAST-MODIFIED:20190429T113154Z
UID:1455-1556128800-1556134200@www.rightbalance.eu
SUMMARY:Hatha Yoga
DESCRIPTION:In this class we teach proper alignment while offering postures that strengthen and promote flexibility. Breathing techniques and meditation are also integrated. Expect an emphasis on simplicity\, repetition\, and ease of movement.
URL:https://www.rightbalance.eu/event/hatha-yoga-4/
ATTACH;FMTTYPE=image/jpeg:https://www.rightbalance.eu/wp-content/uploads/2019/02/51155506_2231612493767649_3559519949753942016_o.jpg
END:VEVENT
BEGIN:VEVENT
DTSTART;TZID=UTC:20190423T110000
DTEND;TZID=UTC:20190423T123000
DTSTAMP:20260424T143810
CREATED:20190423T110748Z
LAST-MODIFIED:20190429T112259Z
UID:952-1556017200-1556022600@www.rightbalance.eu
SUMMARY:Hatha Yoga
DESCRIPTION:Classical Hatha Yoga In this class\nI teach proper alignment while  offering\npostures that strengthen and promote flexibility. Breathing techniques and\nmeditation are also integrated. Expect an emphasis on simplicity\, repetition\,\nand ease of movement. I will lead you through a variety of standing postures\, twists\,\nbackbends\, forward folds and hip openers. At the end of the class we will have\na long guided relaxation and meditation with the goal of bringing about a\nsound\, healthy body and a clear\, peaceful mind. \n\n\n\nSuitable\nfor all ages\, levels 1-2
URL:https://www.rightbalance.eu/event/classical-hatha-yoga/
ATTACH;FMTTYPE=image/jpeg:https://www.rightbalance.eu/wp-content/uploads/2019/02/51155506_2231612493767649_3559519949753942016_o.jpg
END:VEVENT
END:VCALENDAR