BEGIN:VCALENDAR
VERSION:2.0
PRODID:-//Right Balance - ECPv6.15.20//NONSGML v1.0//EN
CALSCALE:GREGORIAN
METHOD:PUBLISH
X-WR-CALNAME:Right Balance
X-ORIGINAL-URL:https://www.rightbalance.eu
X-WR-CALDESC:Events for Right Balance
REFRESH-INTERVAL;VALUE=DURATION:PT1H
X-Robots-Tag:noindex
X-PUBLISHED-TTL:PT1H
BEGIN:VTIMEZONE
TZID:Europe/Riga
BEGIN:DAYLIGHT
TZOFFSETFROM:+0200
TZOFFSETTO:+0300
TZNAME:EEST
DTSTART:20180325T010000
END:DAYLIGHT
BEGIN:STANDARD
TZOFFSETFROM:+0300
TZOFFSETTO:+0200
TZNAME:EET
DTSTART:20181028T010000
END:STANDARD
BEGIN:DAYLIGHT
TZOFFSETFROM:+0200
TZOFFSETTO:+0300
TZNAME:EEST
DTSTART:20190331T010000
END:DAYLIGHT
BEGIN:STANDARD
TZOFFSETFROM:+0300
TZOFFSETTO:+0200
TZNAME:EET
DTSTART:20191027T010000
END:STANDARD
BEGIN:DAYLIGHT
TZOFFSETFROM:+0200
TZOFFSETTO:+0300
TZNAME:EEST
DTSTART:20200329T010000
END:DAYLIGHT
BEGIN:STANDARD
TZOFFSETFROM:+0300
TZOFFSETTO:+0200
TZNAME:EET
DTSTART:20201025T010000
END:STANDARD
END:VTIMEZONE
BEGIN:VTIMEZONE
TZID:UTC
BEGIN:STANDARD
TZOFFSETFROM:+0000
TZOFFSETTO:+0000
TZNAME:UTC
DTSTART:20180101T000000
END:STANDARD
END:VTIMEZONE
BEGIN:VEVENT
DTSTART;TZID=Europe/Riga:20190604T120000
DTEND;TZID=Europe/Riga:20190604T133000
DTSTAMP:20260424T093108
CREATED:20190602T192418Z
LAST-MODIFIED:20190602T192424Z
UID:2461-1559649600-1559655000@www.rightbalance.eu
SUMMARY:Vinyasa Flow Hatha Yoga
DESCRIPTION:It is a dynamic style of Hatha yoga which\nlinks physical postures (asana) with the breath. Our Flow classes are designed\nto cultivate heat in the body while moving through creative sequences.
URL:https://www.rightbalance.eu/event/vinyasa-flow-hatha-yoga-8/
ATTACH;FMTTYPE=image/jpeg:https://www.rightbalance.eu/wp-content/uploads/2019/05/vinnyasa-flow.jpeg
END:VEVENT
BEGIN:VEVENT
DTSTART;TZID=Europe/Riga:20190603T183000
DTEND;TZID=Europe/Riga:20190603T200000
DTSTAMP:20260424T093108
CREATED:20190602T193520Z
LAST-MODIFIED:20190602T193636Z
UID:2469-1559586600-1559592000@www.rightbalance.eu
SUMMARY:Hatha Yoga
DESCRIPTION:In this class we teach proper alignment while\noffering postures that strengthen and promote flexibility. Breathing techniques\nand meditation are also integrated. Expect an emphasis on simplicity\,\nrepetition\, and ease of movement
URL:https://www.rightbalance.eu/event/hatha-yoga-17/
CATEGORIES:Yoga
ATTACH;FMTTYPE=image/jpeg:https://www.rightbalance.eu/wp-content/uploads/2019/04/group-yoga-jivana.jpg
END:VEVENT
BEGIN:VEVENT
DTSTART;TZID=Europe/Riga:20190603T090000
DTEND;TZID=Europe/Riga:20190603T103000
DTSTAMP:20260424T093108
CREATED:20190602T192602Z
LAST-MODIFIED:20190602T192830Z
UID:2459-1559552400-1559557800@www.rightbalance.eu
SUMMARY:Hatha Yoga for Beginners
DESCRIPTION:If you are brand new to yoga\, there are certain postures that are essential for you to learn so you can feel comfortable in a class or practicing on your own at home. \n\n\n\nWith time You’ll cover all the most common yoga poses\, build strength and healthy flexibility.
URL:https://www.rightbalance.eu/event/hatha-yoga-for-beginners/
CATEGORIES:Yoga
ATTACH;FMTTYPE=image/jpeg:https://www.rightbalance.eu/wp-content/uploads/2019/06/beginers-child-pose.jpeg
END:VEVENT
BEGIN:VEVENT
DTSTART;TZID=Europe/Riga:20190601T120000
DTEND;TZID=Europe/Riga:20190601T131500
DTSTAMP:20260424T093108
CREATED:20190527T082842Z
LAST-MODIFIED:20190527T082859Z
UID:2215-1559390400-1559394900@www.rightbalance.eu
SUMMARY:Talking to the Body and Mind
DESCRIPTION:This guided meditative hypnotherapy is a process of being reminded of a language most of us have forgotten. It’s the language of communicating with your own body. Communicating with the body\, talking to it\, listening to its messages has been a well known practice in ancient Tibet.
URL:https://www.rightbalance.eu/event/talking-to-the-body-and-mind-4/
CATEGORIES:meditation
ATTACH;FMTTYPE=image/jpeg:https://www.rightbalance.eu/wp-content/uploads/2019/05/Talking-to-the-body-mind.jpg
END:VEVENT
BEGIN:VEVENT
DTSTART;TZID=Europe/Riga:20190531T180000
DTEND;TZID=Europe/Riga:20190531T191500
DTSTAMP:20260424T093108
CREATED:20190526T201452Z
LAST-MODIFIED:20190527T082520Z
UID:2158-1559325600-1559330100@www.rightbalance.eu
SUMMARY:Talking to the Body and Mind
DESCRIPTION:This guided meditative hypnotherapy is a process of being reminded of a language most of us have forgotten. It’s the language of communicating with your own body. Communicating with the body\, talking to it\, listening to its messages has been a well known practice in ancient Tibet.
URL:https://www.rightbalance.eu/event/talking-to-the-body-and-mind-3/
CATEGORIES:meditation
ATTACH;FMTTYPE=image/jpeg:https://www.rightbalance.eu/wp-content/uploads/2019/05/Talking-to-the-body-mind.jpg
END:VEVENT
BEGIN:VEVENT
DTSTART;TZID=UTC:20190531T090000
DTEND;TZID=UTC:20190531T223000
DTSTAMP:20260424T093108
CREATED:20190508T113722Z
LAST-MODIFIED:20190530T090009Z
UID:1924-1559293200-1559341800@www.rightbalance.eu
SUMMARY:Vinyasa Flow Hatha Yoga
DESCRIPTION:It is a dynamic style of Hatha yoga which\nlinks physical postures (asana) with the breath. Our Flow classes are designed\nto cultivate heat in the body while moving through creative sequences.
URL:https://www.rightbalance.eu/event/vinyasa-flow-hatha-yoga-9/
CATEGORIES:Yoga
ATTACH;FMTTYPE=image/jpeg:https://www.rightbalance.eu/wp-content/uploads/2019/05/vinnyasa-flow.jpeg
END:VEVENT
BEGIN:VEVENT
DTSTART;TZID=UTC:20190530T180000
DTEND;TZID=UTC:20190530T193000
DTSTAMP:20260424T093108
CREATED:20190508T113443Z
LAST-MODIFIED:20190524T130533Z
UID:1921-1559239200-1559244600@www.rightbalance.eu
SUMMARY:Slow and Restore Hatha Yoga
DESCRIPTION:Relaxing class with a lot of slow openings\,\nstretches and breathing techniques.
URL:https://www.rightbalance.eu/event/slow-and-restore-hatha-yoga-11/
CATEGORIES:Yoga
ATTACH;FMTTYPE=image/jpeg:https://www.rightbalance.eu/wp-content/uploads/2019/04/valentina-slow-and-restore.jpg
END:VEVENT
BEGIN:VEVENT
DTSTART;TZID=UTC:20190529T110000
DTEND;TZID=UTC:20190529T123000
DTSTAMP:20260424T093108
CREATED:20190508T112020Z
LAST-MODIFIED:20190528T191152Z
UID:1914-1559127600-1559133000@www.rightbalance.eu
SUMMARY:Hatha Yoga
DESCRIPTION:In this class we teach proper alignment while\noffering postures that strengthen and promote flexibility. Breathing techniques\nand meditation are also integrated. Expect an emphasis on simplicity\,\nrepetition\, and ease of movement.
URL:https://www.rightbalance.eu/event/hatha-yoga-15/
CATEGORIES:Yoga
ATTACH;FMTTYPE=image/jpeg:https://www.rightbalance.eu/wp-content/uploads/2019/04/group-yoga-jivana.jpg
END:VEVENT
BEGIN:VEVENT
DTSTART;TZID=UTC:20190528T180000
DTEND;TZID=UTC:20190528T193000
DTSTAMP:20260424T093108
CREATED:20190508T110815Z
LAST-MODIFIED:20190508T110820Z
UID:1905-1559066400-1559071800@www.rightbalance.eu
SUMMARY:Hatha Yoga
DESCRIPTION:In this class we teach proper alignment while\noffering postures that strengthen and promote flexibility. Breathing techniques\nand meditation are also integrated. Expect an emphasis on simplicity\,\nrepetition\, and ease of movement.
URL:https://www.rightbalance.eu/event/hatha-yoga-14/
CATEGORIES:Yoga
ATTACH;FMTTYPE=image/jpeg:https://www.rightbalance.eu/wp-content/uploads/2019/04/group-yoga-jivana.jpg
END:VEVENT
BEGIN:VEVENT
DTSTART;TZID=UTC:20190528T093000
DTEND;TZID=UTC:20190528T103000
DTSTAMP:20260424T093108
CREATED:20190508T105907Z
LAST-MODIFIED:20190526T200206Z
UID:1899-1559035800-1559039400@www.rightbalance.eu
SUMMARY:Vipassana Meditation
DESCRIPTION:“The very word Vipassana means “Seeing” or “Watching”. Vipassana  meditation is gift of Gautama The Buddha to humanity. He became  enlightened through this medthod & after him thousands of people  have become enlightened through this method.” Osho  Vipassana is a passive form  of meditation.  1 stage being aware of the mind and body while slowly walking\, 2nd  watching the rise & fall of the belly\, watching the breathThis is great meditation to bring you to the present moment & make you mindful of the now.
URL:https://www.rightbalance.eu/event/vipassana-meditation/
CATEGORIES:meditation
ATTACH;FMTTYPE=image/jpeg:https://www.rightbalance.eu/wp-content/uploads/2019/05/valentina-meditaion.jpg
END:VEVENT
BEGIN:VEVENT
DTSTART;TZID=UTC:20190525T120000
DTEND;TZID=UTC:20190525T131500
DTSTAMP:20260424T093108
CREATED:20190508T103514Z
LAST-MODIFIED:20190520T070820Z
UID:1891-1558785600-1558790100@www.rightbalance.eu
SUMMARY:Talking to the Body and Mind Meditative Therapy
DESCRIPTION:This guided meditation is a process of being reminded of a language \nmost of us have forgotten. It’s the language of communicating with your \nown body. Communicating with the body\, talking to it\, listening to its messages has been a well known practice in ancient Tibet.
URL:https://www.rightbalance.eu/event/taling-to-the-body-and-mind-meditatitative-therapy/
CATEGORIES:meditation
ATTACH;FMTTYPE=image/jpeg:https://www.rightbalance.eu/wp-content/uploads/2019/05/edgars-relaxation.jpg
END:VEVENT
BEGIN:VEVENT
DTSTART;TZID=UTC:20190524T180000
DTEND;TZID=UTC:20190524T191500
DTSTAMP:20260424T093108
CREATED:20190520T070425Z
LAST-MODIFIED:20190520T070429Z
UID:2023-1558720800-1558725300@www.rightbalance.eu
SUMMARY:"Talking to the Body and Mind"
DESCRIPTION:This guided meditative hypnotherapy is a process of being reminded of a language most of us have forgotten. It’s the language of communicating with your own body. Communicating with the body\, talking to it\, listening to its messages has been a well known practice in ancient Tibet.
URL:https://www.rightbalance.eu/event/talking-to-the-body-and-mind-2/
ATTACH;FMTTYPE=image/jpeg:https://www.rightbalance.eu/wp-content/uploads/2019/05/Talking-to-the-body-mind.jpg
END:VEVENT
BEGIN:VEVENT
DTSTART;TZID=UTC:20190524T090000
DTEND;TZID=UTC:20190524T103000
DTSTAMP:20260424T093108
CREATED:20190508T102546Z
LAST-MODIFIED:20190508T102747Z
UID:1887-1558688400-1558693800@www.rightbalance.eu
SUMMARY:Vinyasa Flow Hatha Yoga
DESCRIPTION:It is a dynamic style of Hatha yoga which links physical postures (asana) with the breath. Our Flow classes are designed to cultivate heat in the body while moving through creative sequences.
URL:https://www.rightbalance.eu/event/slow-and-restore-hatha-yoga-9/
CATEGORIES:Yoga
ATTACH;FMTTYPE=image/jpeg:https://www.rightbalance.eu/wp-content/uploads/2019/05/vinnyasa-flow.jpeg
END:VEVENT
BEGIN:VEVENT
DTSTART;TZID=UTC:20190523T180000
DTEND;TZID=UTC:20190523T193000
DTSTAMP:20260424T093108
CREATED:20190508T101339Z
LAST-MODIFIED:20190508T101405Z
UID:1884-1558634400-1558639800@www.rightbalance.eu
SUMMARY:Slow and Restore Hatha Yoga
DESCRIPTION:Relaxing class with a lot of slow openings\, stretches and breathing techniques.
URL:https://www.rightbalance.eu/event/slow-and-restore-hatha-yoga-8/
CATEGORIES:Yoga
ATTACH;FMTTYPE=image/jpeg:https://www.rightbalance.eu/wp-content/uploads/2019/04/valentina-slow-and-restore.jpg
END:VEVENT
BEGIN:VEVENT
DTSTART;TZID=UTC:20190523T110000
DTEND;TZID=UTC:20190523T123000
DTSTAMP:20260424T093108
CREATED:20190508T101114Z
LAST-MODIFIED:20190508T101510Z
UID:1881-1558609200-1558614600@www.rightbalance.eu
SUMMARY:Hatha Yoga
DESCRIPTION:In this class we teach proper alignment while offering postures that strengthen and promote flexibility. Breathing techniques and meditation are also integrated. Expect an emphasis on simplicity\, repetition\, and ease of movement.
URL:https://www.rightbalance.eu/event/hatha-yoga-13/
CATEGORIES:Yoga
ATTACH;FMTTYPE=image/jpeg:https://www.rightbalance.eu/wp-content/uploads/2019/04/group-yoga-jivana.jpg
END:VEVENT
BEGIN:VEVENT
DTSTART;TZID=UTC:20190522T180000
DTEND;TZID=UTC:20190522T194500
DTSTAMP:20260424T093108
CREATED:20190508T100652Z
LAST-MODIFIED:20190508T100658Z
UID:1879-1558548000-1558554300@www.rightbalance.eu
SUMMARY:Singing Bowls Meditation
DESCRIPTION:If you are looking for relaxation\, for empty space inside\, for insights\, for healing\, for opening the doors of perception and self awareness-you are welcome. we will start with short meditation guided by India Jivaeva and then Yuri Fateev will gently guide you into the sound healing journey. Bookings are necessary.
URL:https://www.rightbalance.eu/event/singing-bowls-meditation-5/
ATTACH;FMTTYPE=image/jpeg:https://www.rightbalance.eu/wp-content/uploads/2019/05/yura.jpg
END:VEVENT
BEGIN:VEVENT
DTSTART;TZID=UTC:20190522T123000
DTEND;TZID=UTC:20190522T140000
DTSTAMP:20260424T093108
CREATED:20190508T095145Z
LAST-MODIFIED:20190508T095154Z
UID:1877-1558528200-1558533600@www.rightbalance.eu
SUMMARY:Hatha Yoga
DESCRIPTION:In this class we teach proper alignment while offering postures that strengthen and promote flexibility. Breathing techniques and meditation are also integrated. Expect an emphasis on simplicity\, repetition\, and ease of movement.
URL:https://www.rightbalance.eu/event/hatha-yoga-12/
ATTACH;FMTTYPE=image/jpeg:https://www.rightbalance.eu/wp-content/uploads/2019/04/group-yoga-jivana.jpg
END:VEVENT
BEGIN:VEVENT
DTSTART;TZID=UTC:20190522T100000
DTEND;TZID=UTC:20190522T110000
DTSTAMP:20260424T093108
CREATED:20190508T093956Z
LAST-MODIFIED:20190508T095636Z
UID:1873-1558519200-1558522800@www.rightbalance.eu
SUMMARY:No Mind - Osho Gibberish Meditation
DESCRIPTION:Active Meditation. A method of deep mind cleansing  using the sound and body  movement\, Gibberish has been described by Osho as “one of the most  scientific ways to clean your mind.” It is followed by a guided  relaxation into a state of complete let-go.
URL:https://www.rightbalance.eu/event/no-mind-osho-gibberish-meditation/
ATTACH;FMTTYPE=image/jpeg:https://www.rightbalance.eu/wp-content/uploads/2019/05/edgar-gibberish-.jpg
END:VEVENT
BEGIN:VEVENT
DTSTART;TZID=UTC:20190521T180000
DTEND;TZID=UTC:20190521T193000
DTSTAMP:20260424T093108
CREATED:20190508T092346Z
LAST-MODIFIED:20190508T092353Z
UID:1870-1558461600-1558467000@www.rightbalance.eu
SUMMARY:Hatha Yoga
DESCRIPTION:In this class we teach proper alignment while offering postures that strengthen and promote flexibility. Breathing techniques and meditation are also integrated. Expect an emphasis on simplicity\, repetition\, and ease of movement.
URL:https://www.rightbalance.eu/event/hatha-yoga-11/
ATTACH;FMTTYPE=image/jpeg:https://www.rightbalance.eu/wp-content/uploads/2019/04/group-yoga-jivana.jpg
END:VEVENT
BEGIN:VEVENT
DTSTART;TZID=UTC:20190521T110000
DTEND;TZID=UTC:20190521T123000
DTSTAMP:20260424T093108
CREATED:20190508T092052Z
LAST-MODIFIED:20190508T092057Z
UID:1868-1558436400-1558441800@www.rightbalance.eu
SUMMARY:Vinyasa Flow Hatha Yoga
DESCRIPTION:It is a dynamic style of Hatha yoga which links physical postures (asana) with the breath. Our Flow classes are designed to cultivate heat in the body while moving through creative sequences.
URL:https://www.rightbalance.eu/event/vinyasa-flow-hatha-yoga-7/
ATTACH;FMTTYPE=image/jpeg:https://www.rightbalance.eu/wp-content/uploads/2019/05/vinnyasa-flow.jpeg
END:VEVENT
BEGIN:VEVENT
DTSTART;TZID=UTC:20190521T093000
DTEND;TZID=UTC:20190521T103000
DTSTAMP:20260424T093108
CREATED:20190508T091603Z
LAST-MODIFIED:20190508T091609Z
UID:1863-1558431000-1558434600@www.rightbalance.eu
SUMMARY:Gourishankar Meditation
DESCRIPTION:Meditation with a candle light. This is a soft centering technique which works on the third eye. The meditation consists of four stages of fifteen minutes each. The  first two stages are preparation for the spontaneous Latihan of the  third stage. If the breathing is done correctly in the first stage\, the  carbon dioxide formed in the bloodstream will make you feel as high as  Gourishankar (Mt. Everest)
URL:https://www.rightbalance.eu/event/gourishankar-meditation/
ATTACH;FMTTYPE=image/jpeg:https://www.rightbalance.eu/wp-content/uploads/2019/05/gourishankar.jpg
END:VEVENT
BEGIN:VEVENT
DTSTART;TZID=UTC:20190520T123000
DTEND;TZID=UTC:20190520T140000
DTSTAMP:20260424T093108
CREATED:20190507T183327Z
LAST-MODIFIED:20190507T183331Z
UID:1854-1558355400-1558360800@www.rightbalance.eu
SUMMARY:"Slow and Restore" Hatha Yoga
DESCRIPTION:Relaxing class with a lot of slow openings\, stretches and breathing techniques.
URL:https://www.rightbalance.eu/event/slow-and-restore-hatha-yoga-7/
ATTACH;FMTTYPE=image/jpeg:https://www.rightbalance.eu/wp-content/uploads/2019/04/valentina-slow-and-restore.jpg
END:VEVENT
BEGIN:VEVENT
DTSTART;TZID=UTC:20190518T120000
DTEND;TZID=UTC:20190518T131500
DTSTAMP:20260424T093108
CREATED:20190507T183041Z
LAST-MODIFIED:20190507T183050Z
UID:1852-1558180800-1558185300@www.rightbalance.eu
SUMMARY:Pranayama and Hypnotic Guided Meditation
DESCRIPTION:
URL:https://www.rightbalance.eu/event/pranayama-and-hypnotic-guided-meditation/
ATTACH;FMTTYPE=image/jpeg:https://www.rightbalance.eu/wp-content/uploads/2019/01/lotus-1205631_1920.jpg
END:VEVENT
BEGIN:VEVENT
DTSTART;TZID=UTC:20190517T180000
DTEND;TZID=UTC:20190517T190000
DTSTAMP:20260424T093108
CREATED:20190515T043434Z
LAST-MODIFIED:20190515T043441Z
UID:1989-1558116000-1558119600@www.rightbalance.eu
SUMMARY:Talking to the Body and Mind
DESCRIPTION:In this process we will inquire with respect and loving kindness into what your body and mind really needs in order to live in harmony.Using hypnosis\, you first reconnect with your body/mind\, making friends with it\, and then you start a healing process by communicating with your unconscious\, in a state of deep relaxation.
URL:https://www.rightbalance.eu/event/talking-to-the-body-and-mind/
CATEGORIES:meditation
ATTACH;FMTTYPE=image/jpeg:https://www.rightbalance.eu/wp-content/uploads/2019/05/Talking-to-the-body-mind.jpg
END:VEVENT
BEGIN:VEVENT
DTSTART;TZID=UTC:20190517T090000
DTEND;TZID=UTC:20190517T103000
DTSTAMP:20260424T093108
CREATED:20190507T182759Z
LAST-MODIFIED:20190507T182804Z
UID:1850-1558083600-1558089000@www.rightbalance.eu
SUMMARY:Vinyasa Flow Hatha Yoga
DESCRIPTION:It is a dynamic style of Hatha yoga which links physical postures (asana) with the breath. Our Flow classes are designed to cultivate heat in the body while moving through creative sequences.
URL:https://www.rightbalance.eu/event/vinyasa-flow-hatha-yoga-6/
ATTACH;FMTTYPE=image/jpeg:https://www.rightbalance.eu/wp-content/uploads/2019/05/vinnyasa-flow.jpeg
END:VEVENT
BEGIN:VEVENT
DTSTART;TZID=UTC:20190516T180000
DTEND;TZID=UTC:20190516T193000
DTSTAMP:20260424T093108
CREATED:20190507T182515Z
LAST-MODIFIED:20190507T182520Z
UID:1847-1558029600-1558035000@www.rightbalance.eu
SUMMARY:Slow and Restore Hatha Yoga
DESCRIPTION:Relaxing class with a lot of slow openings\, stretches and breathing techniques.
URL:https://www.rightbalance.eu/event/slow-and-restore-hatha-yoga-6/
ATTACH;FMTTYPE=image/jpeg:https://www.rightbalance.eu/wp-content/uploads/2019/04/valentina-slow-and-restore.jpg
END:VEVENT
BEGIN:VEVENT
DTSTART;TZID=UTC:20190516T110000
DTEND;TZID=UTC:20190516T123000
DTSTAMP:20260424T093108
CREATED:20190507T182213Z
LAST-MODIFIED:20190510T062426Z
UID:1843-1558004400-1558009800@www.rightbalance.eu
SUMMARY:Hatha Yoga
DESCRIPTION:In this class we teach proper alignment while offering postures that  strengthen and promote flexibility. Breathing techniques and meditation  are also integrated. Expect an emphasis on simplicity\, repetition\, and  ease of movement.
URL:https://www.rightbalance.eu/event/hatha-yoga-10/
ATTACH;FMTTYPE=image/jpeg:https://www.rightbalance.eu/wp-content/uploads/2019/04/group-yoga-jivana.jpg
END:VEVENT
BEGIN:VEVENT
DTSTART;TZID=UTC:20190515T183000
DTEND;TZID=UTC:20190515T194500
DTSTAMP:20260424T093108
CREATED:20190507T181925Z
LAST-MODIFIED:20190510T062315Z
UID:1838-1557945000-1557949500@www.rightbalance.eu
SUMMARY:Singing Bowls Meditation
DESCRIPTION:If you are looking for relaxation\, for empty space inside\, for insights\, for healing\, for opening the doors of perception and self awareness-you are welcome. we will start with short meditation guided by India Jivaeva and then Yuri Fateev will gently guide you into the sound healing journey. Bookings are necessary.
URL:https://www.rightbalance.eu/event/singing-bowls-meditation-4/
ATTACH;FMTTYPE=image/jpeg:https://www.rightbalance.eu/wp-content/uploads/2019/05/yura.jpg
END:VEVENT
BEGIN:VEVENT
DTSTART;TZID=UTC:20190515T123000
DTEND;TZID=UTC:20190515T140000
DTSTAMP:20260424T093108
CREATED:20190507T181555Z
LAST-MODIFIED:20190510T062147Z
UID:1835-1557923400-1557928800@www.rightbalance.eu
SUMMARY:Hatha Yoga
DESCRIPTION:In this class we teach proper alignment while offering postures that strengthen and promote flexibility. Breathing techniques and meditation are also integrated. Expect an emphasis on simplicity\, repetition\, and ease of movement.
URL:https://www.rightbalance.eu/event/hatha-yoga-9/
ATTACH;FMTTYPE=image/jpeg:https://www.rightbalance.eu/wp-content/uploads/2019/04/group-yoga-jivana.jpg
END:VEVENT
BEGIN:VEVENT
DTSTART;TZID=UTC:20190515T100000
DTEND;TZID=UTC:20190515T110000
DTSTAMP:20260424T093108
CREATED:20190507T181323Z
LAST-MODIFIED:20190510T061942Z
UID:1827-1557914400-1557918000@www.rightbalance.eu
SUMMARY:Mandala Meditation
DESCRIPTION:A powerful active meditation technique that creates a circle of energy for natural centering.
URL:https://www.rightbalance.eu/event/mandala-meditation/
ATTACH;FMTTYPE=image/jpeg:https://www.rightbalance.eu/wp-content/uploads/2019/05/mandala-meditation.jpg
END:VEVENT
END:VCALENDAR